BEGIN:VCALENDAR
VERSION:2.0
PRODID:-//ChamberMaster//Event Calendar 2.0//EN
METHOD:PUBLISH
X-PUBLISHED-TTL:P3D
REFRESH-INTERVAL:P3D
CALSCALE:GREGORIAN
BEGIN:VEVENT
DTSTART:20211209T173000Z
DTEND:20211209T190000Z
X-MICROSOFT-CDO-ALLDAYEVENT:FALSE
SUMMARY:New Member Appreciation Luncheon
DESCRIPTION:Meet our new members! We are looking forward to honoring them at our New Member Luncheon that will be held on Thursday\, December 9th. Each new member will have an allotted amount of time to introduce themselves and share some brief information about their company\, before handing the microphone on to the next new member.\n\nThink what you'll learn! Think who you'll meet! This is a wonderful opportunity for you to discover more about the ever-growing business community here in West Des Moines.\n\nCome join us on December 9th and make connections that will count in 2022.
X-ALT-DESC;FMTTYPE=text/html:<p _ngcontent-c16="" style="margin: 0px 0px 0.5em\; padding: 0px\; border: 0px\; color: rgb(102\, 102\, 102)\; font-family: Lato\, sans-serif\; font-size: 15px\;"><span style="color:#000000\;"><strong style="margin: 0px\; padding: 0px\; border: 0px\;">Meet our new members!</strong>&nbsp\;We are looking forward to honoring&nbsp\;them at our New Member Luncheon that will be held on Thursday\, December 9th. Each new member will have an allotted&nbsp\;amount of time to introduce themselves and share some brief information about their company\, before handing the microphone on to the next new member.</span></p>\n\n<p style="margin: 0px 0px 0.5em\; padding: 0px\; border: 0px\; color: rgb(102\, 102\, 102)\; font-family: Lato\, sans-serif\; font-size: 15px\;"><span style="color:#000000\;">Think what you&rsquo\;ll learn!&nbsp\;Think who you&rsquo\;ll meet!&nbsp\;This is a wonderful opportunity for you to discover more about the ever-growing business community here in West Des Moines.</span></p>\n\n<p style="margin: 0px 0px 0.5em\; padding: 0px\; border: 0px\; color: rgb(102\, 102\, 102)\; font-family: Lato\, sans-serif\; font-size: 15px\;"><span style="color:#000000\;">Come join us on December 9<span style="margin: 0px\; padding: 0px\; border: 0px\; position: relative\; font-size: 11.25px\; line-height: 1em\; vertical-align: baseline\; top: -0.5em\;">th</span>&nbsp\;and make connections that will count in 2022.</span></p>\n
LOCATION:MidAmerican Energy Company RecPlex
UID:e.2655.1349
SEQUENCE:3
DTSTAMP:20260425T221651Z
URL:https://members.wdmchamber.org/events/details/new-member-appreciation-luncheon-1349
END:VEVENT

END:VCALENDAR
