BEGIN:VCALENDAR
VERSION:2.0
PRODID:-//ChamberMaster//Event Calendar 2.0//EN
METHOD:PUBLISH
X-PUBLISHED-TTL:P3D
REFRESH-INTERVAL:P3D
CALSCALE:GREGORIAN
BEGIN:VEVENT
DTSTART:20241230T190000Z
DTEND:20241230T210000Z
X-MICROSOFT-CDO-ALLDAYEVENT:FALSE
SUMMARY:Night Like This
DESCRIPTION:NIGHT LIKE THIS started out in 2017 as two friends writing music together on the weekends in their college apartments. Today\, NIGHT LIKE THIS has expanded from a duo to a 4 piece band.
X-ALT-DESC;FMTTYPE=text/html:<span style="font-size:14px"><span style="color:rgb(12\, 12\, 13)\; font-family:heebo-medium\,sans-serif">NIGHT LIKE THIS started out in 2017 as two friends writing music together on the weekends in their college apartments. Today\, NIGHT LIKE THIS has expanded from a duo to a 4 piece band.</span></span>
LOCATION:Prairie Meadows Casino & Racetrack 1 Prairie Meadows Dr\, Altoona\, IA 50009
UID:e.2655.4194
SEQUENCE:3
DTSTAMP:20260421T084759Z
URL:https://members.wdmchamber.org/events/details/night-like-this-4194
END:VEVENT

END:VCALENDAR
