BEGIN:VCALENDAR
VERSION:2.0
PRODID:-//ChamberMaster//Event Calendar 2.0//EN
METHOD:PUBLISH
X-PUBLISHED-TTL:P3D
REFRESH-INTERVAL:P3D
CALSCALE:GREGORIAN
BEGIN:VEVENT
DTSTART:20221110T173000Z
DTEND:20221110T190000Z
X-MICROSOFT-CDO-ALLDAYEVENT:FALSE
SUMMARY:Nonprofit Spotlight Luncheon
DESCRIPTION:Join us in this upcoming season of thanksgiving as we spotlight nonprofit organizations dedicated to serving our community. Learn about the pressing needs members of our community are facing and how we as residents\, professionals\, and businesses/organizations can step up and give back.\n\n\n\nPanel to be announced.\n\n\n\nNotice of Photographic & Media Recording: When you attend a West Des Moines Chamber of Commerce event\, photography\, audio\, and video recording may occur. By attending this event\, you consent to such recording media and your image and likeness being used in connection with the advertising\, marketing\, and promotion of the West Des Moines Chamber of Commerce and/or City of West Des Moines.
X-ALT-DESC;FMTTYPE=text/html:Join us in this upcoming season of thanksgiving as we spotlight nonprofit organizations dedicated to serving our community. Learn about the pressing needs members of our community are facing and how we as residents\, professionals\, and businesses/organizations can step up and give back.<br />\n<br />\nPanel to be announced.<br />\n<br />\n<strong style="font-size: 10px\;">Notice of Photographic &amp\; Media Recording</strong><span style="font-size: 10px\;">: When you attend a West Des Moines Chamber of Commerce event\, photography\, audio\, and video recording may occur. By attending this event\, you consent to such recording media and your image and likeness being used in connection with the advertising\, marketing\, and promotion of the West Des Moines Chamber of Commerce and/or City of West Des Moines.</span>
LOCATION:Des Moines Golf & Country Club 1600 Jordan Creek Pkwy\, West Des Moines\, IA 50266
UID:e.2655.1645
SEQUENCE:3
DTSTAMP:20260424T233232Z
URL:https://members.wdmchamber.org/events/details/nonprofit-spotlight-luncheon-1645
END:VEVENT

END:VCALENDAR
