BEGIN:VCALENDAR
VERSION:2.0
PRODID:-//ChamberMaster//Event Calendar 2.0//EN
METHOD:PUBLISH
X-PUBLISHED-TTL:P3D
REFRESH-INTERVAL:P3D
CALSCALE:GREGORIAN
BEGIN:VEVENT
DTSTART:20251009T163000Z
DTEND:20251009T180000Z
X-MICROSOFT-CDO-ALLDAYEVENT:FALSE
SUMMARY:October 2025 Luncheon: Economic Forecast SOLD OUT
DESCRIPTION:The future is closer than you think   are you ready for it?\n\n \n\nJoin the West Des Moines Chamber of Commerce for one of the year's most anticipated events\, the Fall Forecast\, where top experts bring clarity to today's economy and insights into tomorrow. This powerhouse panel will explore national and local trends\, supply chain shifts\, workforce challenges\, real estate and construction outlooks\, and the forces shaping 2026.\n\n \n\nMeet the Experts\n\n\n	Todd Jablonski   Executive Managing Director\, CIO & Global Head of Multi Asset and Quant\, Principal Asset Management \n	Samantha Mosser   President\, Bankers Trust Company\n	Jonathan Phares\, PhD   Assistant Professor of Supply Chain Management\, Iowa State University Ivy College of Business \n	Alex Parker- Tax Legislative Affairs Director\, Eide Bailly\n	Eric White   Vice President\, Estes Construction \n	Moderator - Katherine Harrington - President & CEO\, West Des Moines Chamber of Commerce \n\n\n  Expect bold insights.\n\n  Expect future-focused predictions.\n\n  Expect connections with top leaders across our region.\n\nSeats are limited   and this event will sell out fast. Don't miss your chance to look into the crystal ball of 2026.\n\n  Register today and get ready for the forecast that matters most    \n\n\n\nNotice of Photographic & Media Recording: When you attend a West Des Moines Chamber of Commerce event\, photography\, audio\, and video recording may occur. By attending this event\, you consent to such recording media and your image and likeness being used in connection with the advertising\, marketing\, and promotion of the West Des Moines Chamber of Commerce and/or City of West Des Moines.
X-ALT-DESC;FMTTYPE=text/html:<div class="x_elementToProof" data-olk-copy-source="MessageBody" style="border: 0px\; font-variant-numeric: inherit\; font-variant-east-asian: inherit\; font-variant-alternates: inherit\; font-variant-position: inherit\; font-variant-emoji: inherit\; font-stretch: inherit\; font-size: 12pt\; line-height: inherit\; font-family: Aptos\, Aptos_EmbeddedFont\, Aptos_MSFontService\, Calibri\, Helvetica\, sans-serif\, serif\, EmojiFont\; font-optical-sizing: inherit\; font-size-adjust: inherit\; font-kerning: inherit\; font-feature-settings: inherit\; font-variation-settings: inherit\; margin: 1em 0px\; padding: 0px\; vertical-align: baseline\; color: rgb(0\, 0\, 0)\;">\n<div 1em="" aptos="" calibri="" class="x_elementToProof" color:="" data-olk-copy-source="MessageBody" font-feature-settings:="" font-kerning:="" font-optical-sizing:="" font-size-adjust:="" font-variation-settings:="" helvetica="" margin:="" padding:="" style="border: 0px\; font-style: inherit\; font-variant: inherit\; font-weight: inherit\; font-stretch: inherit\; font-size: 12pt\; line-height: inherit\; font-family: " vertical-align:=""><span id="cke_bm_136S" style="display: none\;">&nbsp\;</span><span id="cke_bm_137S" style="display: none\;">&nbsp\;</span><span style="font-size:14px\;"><span style="font-family:arial\;"><span id="cke_bm_165S" style="display: none\;">&nbsp\;</span><span id="cke_bm_164S" style="display: none\;">&nbsp\;</span>The future is closer than you think &mdash\; are you ready for it?</span></span><br />\n&nbsp\;</div>\n\n<div 1em="" aptos="" calibri="" class="x_elementToProof" color:="" font-feature-settings:="" font-kerning:="" font-optical-sizing:="" font-size-adjust:="" font-variation-settings:="" helvetica="" margin:="" padding:="" style="border: 0px\; font-style: inherit\; font-variant: inherit\; font-weight: inherit\; font-stretch: inherit\; font-size: 12pt\; line-height: inherit\; font-family: " vertical-align:=""><span style="font-size:14px\;"><span style="font-family:arial\;">Join the West Des Moines Chamber of Commerce for one of the year&rsquo\;s most anticipated events\, the&nbsp\;<b>Fall Forecast</b>\, where top experts bring clarity to today&rsquo\;s economy and insights into tomorrow. This powerhouse panel will explore national and local trends\, supply chain shifts\, workforce challenges\, real estate and construction outlooks\, and the forces shaping 2026.</span></span><br />\n&nbsp\;</div>\n\n<div 1em="" aptos="" calibri="" class="x_elementToProof" color:="" font-feature-settings:="" font-kerning:="" font-optical-sizing:="" font-size-adjust:="" font-variation-settings:="" helvetica="" margin:="" padding:="" style="border: 0px\; font-style: inherit\; font-variant: inherit\; font-weight: inherit\; font-stretch: inherit\; font-size: 12pt\; line-height: inherit\; font-family: " vertical-align:=""><span style="font-size:14px\;"><span style="font-family:arial\;"><b>Meet the Experts</b></span></span></div>\n\n<ul>\n	<li role="presentation" style="border: 0px\; font: inherit\; margin: 1em 0px\; padding: 0px\; vertical-align: baseline\; color: inherit\;"><span style="font-size:14px\;"><span style="font-family:arial\;"><b>Todd Jablonski</b>&nbsp\;&ndash\; Executive Managing Director\, CIO &amp\; Global Head of Multi Asset and Quant\, Principal Asset Management&nbsp\;</span></span></li>\n	<li role="presentation" style="border: 0px\; font: inherit\; margin: 1em 0px\; padding: 0px\; vertical-align: baseline\; color: inherit\;"><span style="font-size:14px\;"><span style="font-family:arial\;"><b>Samantha Mosser</b>&nbsp\;&ndash\; President\, Bankers Trust Company</span></span></li>\n	<li role="presentation" style="border: 0px\; font: inherit\; margin: 1em 0px\; padding: 0px\; vertical-align: baseline\; color: inherit\;"><span style="font-size:14px\;"><span style="font-family:arial\;"><b>Jonathan Phares\, PhD</b>&nbsp\;&ndash\; Assistant Professor of Supply Chain Management\, Iowa State University Ivy College of Business&nbsp\;</span></span></li>\n	<li role="presentation" style="border: 0px\; font: inherit\; margin: 1em 0px\; padding: 0px\; vertical-align: baseline\; color: inherit\;"><span style="font-size:14px\;"><span style="font-family:arial\;"><b>Alex Parker- </b>Tax Legislative Affairs Director\,&nbsp\;Eide Bailly</span></span></li>\n	<li role="presentation" style="border: 0px\; font: inherit\; margin: 1em 0px\; padding: 0px\; vertical-align: baseline\; color: inherit\;"><span style="font-size:14px\;"><span style="font-family:arial\;"><b>Eric White</b>&nbsp\;&ndash\; Vice President\, Estes Construction&nbsp\;</span></span></li>\n	<li class="x_elementToProof" role="presentation" style="border: 0px\; font: inherit\; margin: 1em 0px\; padding: 0px\; vertical-align: baseline\; color: inherit\;"><span style="font-size:14px\;"><span style="font-family:arial\;">Moderator -&nbsp\;<b>Katherine Harrington</b>&nbsp\;- President &amp\; CEO\, West Des Moines Chamber of Commerce&nbsp\;</span></span></li>\n</ul>\n\n<div 1em="" aptos="" calibri="" class="x_elementToProof" color:="" font-feature-settings:="" font-kerning:="" font-optical-sizing:="" font-size-adjust:="" font-variation-settings:="" helvetica="" margin:="" padding:="" style="border: 0px\; font-style: inherit\; font-variant: inherit\; font-weight: inherit\; font-stretch: inherit\; font-size: 12pt\; line-height: inherit\; font-family: " vertical-align:=""><span style="font-size:14px\;"><span style="font-family:arial\;">&#128188\; Expect bold insights.<br />\n&#128302\; Expect future-focused predictions.<br />\n&#129309\; Expect connections with top leaders across our region.</span></span></div>\n\n<div 1em="" aptos="" calibri="" class="x_elementToProof" color:="" font-feature-settings:="" font-kerning:="" font-optical-sizing:="" font-size-adjust:="" font-variation-settings:="" helvetica="" margin:="" padding:="" style="border: 0px\; font-style: inherit\; font-variant: inherit\; font-weight: inherit\; font-stretch: inherit\; font-size: 12pt\; line-height: inherit\; font-family: " vertical-align:=""><span style="font-size:14px\;"><span style="font-family:arial\;">Seats are limited &mdash\; and this event will sell out fast. Don&rsquo\;t miss your chance to&nbsp\;<b>look into the crystal ball of 2026</b>.</span></span></div>\n\n<div 1em="" aptos="" calibri="" class="x_elementToProof" color:="" font-feature-settings:="" font-kerning:="" font-optical-sizing:="" font-size-adjust:="" font-variation-settings:="" helvetica="" margin:="" padding:="" style="border: 0px\; font-style: inherit\; font-variant: inherit\; font-weight: inherit\; font-stretch: inherit\; font-size: 12pt\; line-height: inherit\; font-family: " vertical-align:=""><span style="font-size:14px\;"><span style="font-family:arial\;">&#128073\;&nbsp\;<b>Register today and get ready for the forecast that matters most<span id="cke_bm_164E" style="display: none\;">&nbsp\;</span><span id="cke_bm_165E" style="display: none\;">&nbsp\;</span><span id="cke_bm_137E" style="display: none\;">&nbsp\;</span><span id="cke_bm_136E" style="display: none\;">&nbsp\;</span></b></span></span></div>\n</div>\n<br />\n<strong style="color: rgb(102\, 102\, 102)\; font-family: Lato\, sans-serif\; font-size: 10px\;">Notice of Photographic &amp\; Media Recording</strong><span style="color: rgb(102\, 102\, 102)\; font-family: Lato\, sans-serif\; font-size: 10px\;">: When you attend a West Des Moines Chamber of Commerce event\, photography\, audio\, and video recording may occur. By attending this event\, you consent to such recording media and your image and likeness being used in connection with the advertising\, marketing\, and promotion of the West Des Moines Chamber of Commerce and/or City of West Des Moines.</span>
LOCATION:The Monroe 1805 90th St\, West Des Moines\, IA 50266
UID:e.2655.3928
SEQUENCE:3
DTSTAMP:20260420T115513Z
URL:https://members.wdmchamber.org/events/details/october-2025-luncheon-economic-forecast-sold-out-3928
END:VEVENT

END:VCALENDAR
