BEGIN:VCALENDAR
VERSION:2.0
PRODID:-//ChamberMaster//Event Calendar 2.0//EN
METHOD:PUBLISH
X-PUBLISHED-TTL:P3D
REFRESH-INTERVAL:P3D
CALSCALE:GREGORIAN
BEGIN:VEVENT
DTSTART:20240727T200000Z
DTEND:20240727T220000Z
X-MICROSOFT-CDO-ALLDAYEVENT:FALSE
SUMMARY:One-Year Anniversary Luau
DESCRIPTION:JOIN US FOR A LUAU AND GET A TASTE OF THE RESORT LIFESTYLE. ENJOY THIS TROPICAL THEMED PARTY FEATURING A HOG ROAST\, DANCE\, MUSIC\, MAGICIAN\, AND TROPICAL DRINKS. \n\n\n\nRSVP BY JULY 22 AT 515-422-5998.
X-ALT-DESC;FMTTYPE=text/html:JOIN US FOR A LUAU AND GET A TASTE OF THE RESORT LIFESTYLE. ENJOY THIS TROPICAL THEMED PARTY FEATURING A HOG ROAST\, DANCE\, MUSIC\, MAGICIAN\, AND TROPICAL DRINKS.&nbsp\;<br />\n<br />\nRSVP BY JULY 22 AT 515-422-5998.
LOCATION:
UID:e.2655.3870
SEQUENCE:3
DTSTAMP:20260423T152412Z
URL:https://members.wdmchamber.org/events/details/one-year-anniversary-luau-3870
END:VEVENT

END:VCALENDAR
