BEGIN:VCALENDAR
VERSION:2.0
PRODID:-//ChamberMaster//Event Calendar 2.0//EN
METHOD:PUBLISH
X-PUBLISHED-TTL:P3D
REFRESH-INTERVAL:P3D
CALSCALE:GREGORIAN
BEGIN:VEVENT
DTSTART:20260409T170000Z
DTEND:20260409T180000Z
X-MICROSOFT-CDO-ALLDAYEVENT:FALSE
SUMMARY:Out to Lunch: Spare Time Entertainment
DESCRIPTION:Support Local. Eat Local. Connect Local.\n\nThe West Des Moines Chamber and Explore WDM Committee invites you to go Out to Lunch! This casual initiative is all about spotlighting local restaurants and encouraging our community to dine out and support them.\n\nThere's no formal program\, no registration\, and no cost covered by the Chamber   just an open invitation to grab lunch at a featured spot and enjoy great food while connecting with others who may be doing the same.\n\nBring your team\, meet a friend\, or go solo   it's a simple way to show love to our local dining scene. You're responsible for your own tab.\n\nLet's keep our community strong\, one lunch at a time.\n\n\n\nThis Month's Location: Spare Time Entertainment\n\nLunch Menu: Click Here
X-ALT-DESC;FMTTYPE=text/html:<p data-end="423" data-start="163" style="box-sizing: border-box\; font-size: 24px\; line-height: 1.5\; margin-top: 0px\; margin-bottom: 1rem\; color: rgb(68\, 68\, 68)\; font-family: Montserrat\, sans-serif\;"><span data-end="207" data-start="163" style="box-sizing: border-box\; font-weight: bolder\;">Support Local. Eat Local. Connect Local.</span><br data-end="210" data-start="207" style="box-sizing: border-box\;" />\nThe West Des Moines Chamber and Explore WDM Committee invites you to go&nbsp\;<em data-end="295" data-start="281" style="box-sizing: border-box\;">Out to Lunch</em>! This casual initiative is all about spotlighting local restaurants and encouraging our community to dine out and support them.</p>\n\n<p data-end="640" data-start="425" style="box-sizing: border-box\; font-size: 24px\; line-height: 1.5\; margin-top: 0px\; margin-bottom: 1rem\; color: rgb(68\, 68\, 68)\; font-family: Montserrat\, sans-serif\;">There&rsquo\;s no formal program\, no registration\, and no cost covered by the Chamber &mdash\; just an open invitation to grab lunch at a featured spot and enjoy great food while connecting with others who may be doing the same.</p>\n\n<p data-end="845" data-start="642" style="box-sizing: border-box\; font-size: 24px\; line-height: 1.5\; margin-top: 0px\; margin-bottom: 1rem\; color: rgb(68\, 68\, 68)\; font-family: Montserrat\, sans-serif\;">Bring your team\, meet a friend\, or go solo &mdash\; it&rsquo\;s a simple way to show love to our local dining scene. You&#39\;re responsible for your own tab.</p>\n\n<p data-end="900" data-start="847" style="box-sizing: border-box\; font-size: 24px\; line-height: 1.5\; margin-top: 0px\; margin-bottom: 1rem\; color: rgb(68\, 68\, 68)\; font-family: Montserrat\, sans-serif\;">Let&rsquo\;s keep our community strong\, one lunch at a time.<br />\n<br />\n<span style="font-size:18px\;">This Month&#39\;s Location: <a href="https://www.sparetimeentertainment.com/desmoines/">Spare Time Entertainment</a><br />\nLunch Menu: <a href="https://www.sparetimeentertainment.com/desmoines/eat-drink/">Click Here</a></span></p>\n
LOCATION:340 Jordan Creek Pkwy West Des Moines IA 50266
UID:e.2655.5298
SEQUENCE:3
DTSTAMP:20260419T181212Z
URL:https://members.wdmchamber.org/events/details/out-to-lunch-spare-time-entertainment-5298
END:VEVENT

END:VCALENDAR
