BEGIN:VCALENDAR
VERSION:2.0
PRODID:-//ChamberMaster//Event Calendar 2.0//EN
METHOD:PUBLISH
X-PUBLISHED-TTL:P3D
REFRESH-INTERVAL:P3D
CALSCALE:GREGORIAN
BEGIN:VEVENT
DTSTART:20240703T210000Z
DTEND:20240704T030000Z
X-MICROSOFT-CDO-ALLDAYEVENT:FALSE
SUMMARY:Punching Pandas
DESCRIPTION:One of Des Moines' best party bands\, The Punching Pandas\, is coming to the Finish Line Show Lounge. They play everything from old school rock to funk\, country\, rap\, and pop. FREE show!
X-ALT-DESC;FMTTYPE=text/html:One of Des Moines&rsquo\; best party bands\, The Punching Pandas\, is coming to the Finish Line Show Lounge. They play everything from old school rock to funk\, country\, rap\, and pop. FREE show!
LOCATION:Prairie Meadows Track Apron 1 Prairie Meadows Dr\, Altoona\, IA 50009
UID:e.2655.3794
SEQUENCE:3
DTSTAMP:20260423T134504Z
URL:https://members.wdmchamber.org/events/details/punching-pandas-3794
END:VEVENT

END:VCALENDAR
