BEGIN:VCALENDAR
VERSION:2.0
PRODID:-//ChamberMaster//Event Calendar 2.0//EN
METHOD:PUBLISH
X-PUBLISHED-TTL:P3D
REFRESH-INTERVAL:P3D
CALSCALE:GREGORIAN
BEGIN:VEVENT
DTSTART:20240707T030000Z
DTEND:20240707T050000Z
X-MICROSOFT-CDO-ALLDAYEVENT:FALSE
SUMMARY:Ragdoll Incident
DESCRIPTION:Rag Doll Incident will take the Finish Line Show Lounge to perform their take on classic rock\, power pop\, and soul music. Must be 21 or older to attend. Free show!
X-ALT-DESC;FMTTYPE=text/html:Rag Doll Incident will take the Finish Line Show Lounge to perform their take on classic rock\, power pop\, and soul music. Must be 21 or older to attend. Free show!
LOCATION:Prairie Meadows Casino\, Hotel\, & Racetrack 1 Prairie Meadows Dr\, Altoona\, IA 50009
UID:e.2655.3790
SEQUENCE:3
DTSTAMP:20260423T134407Z
URL:https://members.wdmchamber.org/events/details/ragdoll-incident-3790
END:VEVENT

END:VCALENDAR
