BEGIN:VCALENDAR
VERSION:2.0
PRODID:-//ChamberMaster//Event Calendar 2.0//EN
METHOD:PUBLISH
X-PUBLISHED-TTL:P3D
REFRESH-INTERVAL:P3D
CALSCALE:GREGORIAN
BEGIN:VEVENT
DTSTART:20240420T220000Z
DTEND:20240421T030000Z
X-MICROSOFT-CDO-ALLDAYEVENT:FALSE
SUMMARY:Raise Your Paw Auction
DESCRIPTION:Reserve your tickets to the ARL's largest event of the year supporting hundreds of pets who will enter our doors this year. Enjoy a night out with other animal lovers\, just like you\, for a chance to win silent or live auction items\, meet the ARL's TheraPet teams\, and more!
X-ALT-DESC;FMTTYPE=text/html:<span style="color:rgb(74\, 74\, 74)\; font-family:montserrat\,helvetica neue\,helvetica\,arial\,sans-serif\; font-size:18px">Reserve your tickets&nbsp\;to the ARL&#39\;s largest event of the year supporting hundreds of pets who will enter our doors this year. Enjoy a night out with other&nbsp\;animal lovers\, just like you\, for a chance to win silent or live auction items\, meet the ARL&#39\;s TheraPet teams\, and more!&nbsp\;</span>
LOCATION:The Meadows Event Center at Prairie Meadows. 1 Prairie Meadows Dr\, Altoona\, IA 50009
UID:e.2655.3679
SEQUENCE:3
DTSTAMP:20260423T183625Z
URL:https://members.wdmchamber.org/events/details/raise-your-paw-auction-3679
END:VEVENT

END:VCALENDAR
