BEGIN:VCALENDAR
VERSION:2.0
PRODID:-//ChamberMaster//Event Calendar 2.0//EN
METHOD:PUBLISH
X-PUBLISHED-TTL:P3D
REFRESH-INTERVAL:P3D
CALSCALE:GREGORIAN
BEGIN:VEVENT
DTSTART;VALUE=DATE:20240722
DTEND;VALUE=DATE:20240723
TRANSP:TRANSPARENT
X-MICROSOFT-CDO-ALLDAYEVENT:TRUE
SUMMARY:Raising A Superhero - Unleash the True Power Within
DESCRIPTION:Training a Super Hero requires much grit\, wisdom\, and skill. It is our mission to equip parents with the truth about the root causes of childhood health challenges. Whether it's Autism\, ADHD\, Sensory Processing Disorder\, Anxiety\, Epilepsy\, or Chronic gut + autoimmune challenges\, at this workshop we will explore natural + drug free solutions.
X-ALT-DESC;FMTTYPE=text/html:Training a Super Hero requires much grit\, wisdom\, and skill. It is our mission to equip parents with the truth about the root causes of childhood health challenges. Whether it&#39\;s Autism\, ADHD\, Sensory Processing Disorder\, Anxiety\, Epilepsy\, or Chronic gut + autoimmune challenges\, at this workshop we will explore natural + drug free solutions.&nbsp\;
LOCATION:Truth Family Chiropractic 1905 EP True Pkwy #207 - WDM
UID:e.2655.3868
SEQUENCE:3
DTSTAMP:20260423T134942Z
URL:https://members.wdmchamber.org/events/details/raising-a-superhero-unleash-the-true-power-within-3868
END:VEVENT

END:VCALENDAR
