BEGIN:VCALENDAR
VERSION:2.0
PRODID:-//ChamberMaster//Event Calendar 2.0//EN
METHOD:PUBLISH
X-PUBLISHED-TTL:P3D
REFRESH-INTERVAL:P3D
CALSCALE:GREGORIAN
BEGIN:VEVENT
DTSTART:20240714T030000Z
DTEND:20240714T050000Z
X-MICROSOFT-CDO-ALLDAYEVENT:FALSE
SUMMARY:Raquel & the Wildflowers
DESCRIPTION:Raquel & The Wildflowers' energetic live performance is coming to The Finish Line Show Lounge\, come enjoy their fusion of country and rock. Must be 21 or older to attend. Free show!
X-ALT-DESC;FMTTYPE=text/html:<span style="color:black">Raquel &amp\; The Wildflowers&#39\; energetic live performance is coming to The Finish Line Show Lounge\,</span> come enjoy their<span style="color:black"> fusion of country and rock. </span><span style="color:black">Must </span>be 21 or older to attend. Free show!
LOCATION:Prairie Meadows Casino\, Hotel\, & Racetrack 1 Prairie Meadows Dr\, Altoona\, IA 50009
UID:e.2655.3791
SEQUENCE:3
DTSTAMP:20260423T134943Z
URL:https://members.wdmchamber.org/events/details/raquel-the-wildflowers-3791
END:VEVENT

END:VCALENDAR
