BEGIN:VCALENDAR
VERSION:2.0
PRODID:-//ChamberMaster//Event Calendar 2.0//EN
METHOD:PUBLISH
X-PUBLISHED-TTL:P3D
REFRESH-INTERVAL:P3D
CALSCALE:GREGORIAN
BEGIN:VEVENT
DTSTART:20260402T200000Z
DTEND:20260402T210000Z
X-MICROSOFT-CDO-ALLDAYEVENT:FALSE
SUMMARY:Ribbon Cutting: Affinity Care of Iowa
DESCRIPTION:Please join us in celebrating the Ribbon Cutting for Affinity Care of Iowa in West Des Moines\, IA. Enjoy networking and hearing a few words from Executive Director Kyle Valois and the team. The cut will follow announcements that begin at 3:15 PM.\n\n\n\nPlease feel free to reach out with any questions. Thank you for your support and we look forward to seeing you Thursday\, April 2nd!\n\n\nNotice of Photographic & Media Recording: When you attend a West Des Moines Chamber event\, photography\, audio\, and video recording may occur. By attending this event\, you consent to such recording media and your image and likeness being used in connection with the advertising\, marketing\, and promotion of the WDM Chamber and/or City of West Des Moines.
X-ALT-DESC;FMTTYPE=text/html:<p><span style="color: rgb(51\, 51\, 51)\;"><i style="font-family: arial\; font-size: 14px\;">Please join us in celebrating the Ribbon Cutting for <a href="https://affinityhealthmanagement.com/">Affinity Care of Iowa</a></i>&nbsp\;</span><span style="font-size:14px\;"><span style="font-family:arial\;"><span style="color: rgb(51\, 51\, 51)\;"><i>in West Des Moines\, IA.&nbsp\;Enjoy networking and hearing a few words from Executive&nbsp\;Director Kyle Valois and the team. The cut will follow announcements that begin at 3:15&nbsp\;PM.</i></span><br />\n<br />\n<span style="color:#333333\;"><em style="">Please feel free to reach out with any questions. Thank you for your support and we look forward to seeing you Thursday\, April 2nd!</em></span></span></span></p>\n<br />\n<strong><span style="color:#333333\;"><span style="font-family:arial\,sans-serif\;"><span style="font-size:7.5pt\;">Notice of Photographic &amp\; Media Recording</span></span></span></strong><span style="color:#333333\;"><span style="font-family:arial\,sans-serif\;"><span style="font-size:7.5pt\;">: When you attend a West Des Moines Chamber event\, photography\, audio\, and video recording may occur. By attending this event\, you consent to such recording media and your image and likeness being used in connection with the advertising\, marketing\, and promotion of the WDM Chamber and/or City of West Des Moines.</span></span></span>
LOCATION:4601 Westown Pkwy Ste 100 West Des Moines\, IA 50266
UID:e.2655.5149
SEQUENCE:3
DTSTAMP:20260419T164127Z
URL:https://members.wdmchamber.org/events/details/ribbon-cutting-affinity-care-of-iowa-5149
END:VEVENT

END:VCALENDAR
