BEGIN:VCALENDAR
VERSION:2.0
PRODID:-//ChamberMaster//Event Calendar 2.0//EN
METHOD:PUBLISH
X-PUBLISHED-TTL:P3D
REFRESH-INTERVAL:P3D
CALSCALE:GREGORIAN
BEGIN:VEVENT
DTSTART:20240501T160000Z
DTEND:20240501T190000Z
X-MICROSOFT-CDO-ALLDAYEVENT:FALSE
SUMMARY:Ribbon Cutting: Alzheimer's Association - Iowa Chapter
DESCRIPTION:Please join us in celebrating the new location of Alzheimer's Association - Iowa Chapter. Enjoy networking and hearing a few words from the team. The cut will follow announcements that begin at 11:15am.\n\n \n\nAll Ribbon Cuttings in 2024 are supported by Presenting Sponsor\, Aureon.\n\n\n\nPlease feel free to reach out with any questions. Thank you for your support and we look forward to seeing you Wednesday\, May 1st!\n\n\n\nThis ribbon cutting is hosted in partnership with Ames Chamber of Commerce and Ankeny Chamber of Commerce.\n\n\n\nNotice of Photographic & Media Recording: When you attend a West Des Moines Chamber event\, photography\, audio\, and video recording may occur. By attending this event\, you consent to such recording media and your image and likeness being used in connection with the advertising\, marketing\, and promotion of the WDM Chamber and/or City of West Des Moines.
X-ALT-DESC;FMTTYPE=text/html:<span style="color: rgb(51\, 51\, 51)\;"><span style="font-family: arial\, sans-serif\;"><span style="font-size: 10pt\;"><i>P</i><em>lease join us in celebrating the new location of <a href="https://www.newcreationschildcare.com/west-des-moines">A</a><a href="https://www.alz.org/iowa">lzheimer&#39\;s Association - Iowa Chapter</a>.&nbsp\;Enjoy networking and hearing a few words from the team. The cut will follow announcements that begin at 11:15am.</em></span></span></span><br />\n<em><span style="color:#333333\;"><span style="font-family:arial\,sans-serif\;"><span style="font-size: 10pt\;">&nbsp\;</span></span></span><br />\n<span style="font-size: 10pt\; font-family: Arial\, sans-serif\;">All Ribbon Cuttings in 2024 are supported by Presenting Sponsor\,</span></em><em><span style="font-size: 10pt\; font-family: Arial\, sans-serif\; font-style: normal\;">&nbsp\;<a href="https://www.aureon.com/"><i>Aureon.</i></a></span><br />\n<br />\n<span style="color:#333333\;"><span style="font-family:arial\,sans-serif\;"><em style=""><span style="font-family: arial\, sans-serif\;"><span style="font-size: 10pt\;">Please feel free to reach out with any questions. Thank you for your support and we look forward to seeing you Wednesday\, May 1</span><span style="font-size: 11.1111px\;">st</span><span style="font-size: 10pt\;">!<br />\n<br />\nThis ribbon cutting is hosted in partnership with Ames Chamber of Commerce and Ankeny Chamber of Commerce.</span></span></em></span></span></em><br />\n<br />\n<strong><span style="color:#333333\;"><span style="font-family:arial\,sans-serif\;"><span style="font-size:7.5pt\;">Notice of Photographic &amp\; Media Recording</span></span></span></strong><span style="color:#333333\;"><span style="font-family:arial\,sans-serif\;"><span style="font-size:7.5pt\;">: When you attend a West Des Moines Chamber event\, photography\, audio\, and video recording may occur. By attending this event\, you consent to such recording media and your image and likeness being used in connection with the advertising\, marketing\, and promotion of the WDM Chamber and/or City of West Des Moines.</span></span></span>
LOCATION:1415 28th Street #430 West Des Moines\, IA 50266
UID:e.2655.3632
SEQUENCE:3
DTSTAMP:20260423T171423Z
URL:https://members.wdmchamber.org/events/details/ribbon-cutting-alzheimer-s-association-iowa-chapter-3632
END:VEVENT

END:VCALENDAR
