BEGIN:VCALENDAR
VERSION:2.0
PRODID:-//ChamberMaster//Event Calendar 2.0//EN
METHOD:PUBLISH
X-PUBLISHED-TTL:P3D
REFRESH-INTERVAL:P3D
CALSCALE:GREGORIAN
BEGIN:VEVENT
DTSTART:20231019T200000Z
DTEND:20231019T210000Z
X-MICROSOFT-CDO-ALLDAYEVENT:FALSE
SUMMARY:Ribbon Cutting - BW Outdoors
DESCRIPTION:Please join us in celebrating the opening of BW Outdoors. Enjoy networking and hearing a few words from their team. The cut will follow announcements that begin at 3:15pm.\n\n \n\nAll Ribbon Cuttings in 2023 are supported by Presenting Sponsor\, Graham Construction.\n\n\n\nPlease feel free to reach out with any questions. Thank you for your support and we look forward to seeing you Thursday\, October 19th!\n\n\n\nNotice of Photographic & Media Recording: When you attend a West Des Moines Chamber event\, photography\, audio\, and video recording may occur. By attending this event\, you consent to such recording media and your image and likeness being used in connection with the advertising\, marketing\, and promotion of the WDM Chamber and/or City of West Des Moines.
X-ALT-DESC;FMTTYPE=text/html:<em>Please join us in celebrating the opening of <a href="https://getbwoutdoors.com/">BW Outdoors</a>. Enjoy networking and hearing a few words from their team. The cut will follow announcements that begin at 3:15pm.</em><br />\n<em>&nbsp\;<br />\nAll Ribbon Cuttings in 2023 are supported by Presenting Sponsor\, <a href="https://grahamconstruction.com/">Graham Construction</a>.</em><br />\n<br />\n<em>Please feel free to reach out with any questions. Thank you for your support and we look forward to seeing you Thursday\, October 19th!</em><br />\n<br />\n<strong style="font-size: 10px\;">Notice of Photographic &amp\; Media Recording</strong><span style="font-size: 10px\;">: When you attend a West Des Moines Chamber event\, photography\, audio\, and video recording may occur. By attending this event\, you consent to such recording media and your image and likeness being used in connection with the advertising\, marketing\, and promotion of the WDM Chamber and/or City of West Des Moines.</span>
LOCATION:BW Outdoors 513 Elm Street West Des Moines\, IA 50265
UID:e.2655.3471
SEQUENCE:3
DTSTAMP:20260424T055539Z
URL:https://members.wdmchamber.org/events/details/ribbon-cutting-bw-outdoors-3471
END:VEVENT

END:VCALENDAR
