BEGIN:VCALENDAR
VERSION:2.0
PRODID:-//ChamberMaster//Event Calendar 2.0//EN
METHOD:PUBLISH
X-PUBLISHED-TTL:P3D
REFRESH-INTERVAL:P3D
CALSCALE:GREGORIAN
BEGIN:VEVENT
DTSTART:20220413T210000Z
DTEND:20220413T220000Z
X-MICROSOFT-CDO-ALLDAYEVENT:FALSE
SUMMARY:Ribbon Cutting - Chefs for Seniors
DESCRIPTION:Please join us in celebrating the grand opening of Chefs for Seniors. The ribbon cutting will be held at the West Des Moines Chamber of Commerce office in West Glen. Enjoy networking and hearing a few words from their team. Food and refreshments will be served. The cut will follow announcements that begin at 4:15pm! \n\nPlease reach out with any questions. Thank you and we will see you on Wednesday\, April 13th!
X-ALT-DESC;FMTTYPE=text/html:<em><span style="color:#333333\;"><span style="font-family:arial\,sans-serif\;"><span style="font-size:10.0pt\;">Please join us in celebrating the grand opening of <a href="https://chefsforseniors.com/"><span style="font-style:normal\;">Chefs for Seniors</span></a>. The ribbon cutting will be held at the West Des Moines Chamber of Commerce office in West Glen. Enjoy networking and hearing a few words from their team. Food and refreshments will be served. The cut will follow announcements that begin at 4:15pm! </span></span></span></em><br />\n<em><span style="color:#333333\;"><span style="font-family:arial\,sans-serif\;"><span style="font-size:10.0pt\;">Please reach out with any questions. Thank you and we will see you on Wednesday\, April 13<sup>th</sup>! </span></span></span></em>
LOCATION:
UID:e.2655.1530
SEQUENCE:3
DTSTAMP:20260422T021514Z
URL:https://members.wdmchamber.org/events/details/ribbon-cutting-chefs-for-seniors-1530
END:VEVENT

END:VCALENDAR
