BEGIN:VCALENDAR
VERSION:2.0
PRODID:-//ChamberMaster//Event Calendar 2.0//EN
METHOD:PUBLISH
X-PUBLISHED-TTL:P3D
REFRESH-INTERVAL:P3D
CALSCALE:GREGORIAN
BEGIN:VEVENT
DTSTART:20250121T220000Z
DTEND:20250121T230000Z
X-MICROSOFT-CDO-ALLDAYEVENT:FALSE
SUMMARY:Ribbon Cutting: Kith & Kin Collaborative
DESCRIPTION:Please join us in celebrating the ribbon cutting for Kith and Kin Collaborative in West Des Moines. Enjoy networking and hearing a few words from the team. The cut will follow announcements that begin at 4:15pm.\n\n\n\nAll Ribbon Cuttings in 2025 are supported by Presenting Sponsor\, Aureon. \n\n\n\nPlease feel free to reach out with any questions. Thank you for your support and we look forward to seeing you Tuesday\, January 21st!\n\n\n\nNotice of Photographic & Media Recording: When you attend a West Des Moines Chamber event\, photography\, audio\, and video recording may occur. By attending this event\, you consent to such recording media and your image and likeness being used in connection with the advertising\, marketing\, and promotion of the WDM Chamber and/or City of West Des Moines.
X-ALT-DESC;FMTTYPE=text/html:<span style="color: rgb(51\, 51\, 51)\;"><span style="font-family: arial\, sans-serif\;"><span style="font-size: 10pt\;"><i>Please join us in celebrating the ribbon cutting for <a href="https://www.kithandkincollaborative.com/">Kith and Kin Collaborative</a>&nbsp\;in West Des Moines</i><i>.&nbsp\;Enjoy networking and hearing a few words from the team. The cut will follow announcements that begin at 4:15pm.</i></span></span></span><br />\n<br />\n<em><span style="font-size: 10pt\; font-family: Arial\, sans-serif\;">All Ribbon Cuttings in 2025 are supported by Presenting Sponsor\,</span></em><em><span style="font-size: 10pt\; font-family: Arial\, sans-serif\; font-style: normal\;">&nbsp\;<a href="https://www.aureon.com/"><i>Aureon.</i></a></span></em><span style="color:#333333\;"><span style="font-family:arial\,sans-serif\;"><span style="font-size: 10pt\;">&nbsp\;</span><br />\n<br />\n<em style=""><span style="font-family: arial\, sans-serif\;"><span style="font-size: 10pt\;">Please feel free to reach out with any questions. Thank you for your support and we look forward to seeing you Tuesday\, January 21st!</span></span></em></span></span><br />\n<br />\n<strong><span style="color:#333333\;"><span style="font-family:arial\,sans-serif\;"><span style="font-size:7.5pt\;">Notice of Photographic &amp\; Media Recording</span></span></span></strong><span style="color:#333333\;"><span style="font-family:arial\,sans-serif\;"><span style="font-size:7.5pt\;">: When you attend a West Des Moines Chamber event\, photography\, audio\, and video recording may occur. By attending this event\, you consent to such recording media and your image and likeness being used in connection with the advertising\, marketing\, and promotion of the WDM Chamber and/or City of West Des Moines.</span></span></span>
LOCATION:815 Office Park Road\, Suite 3 West Des Moines\, IA 50265
UID:e.2655.4423
SEQUENCE:3
DTSTAMP:20260420T095231Z
URL:https://members.wdmchamber.org/events/details/ribbon-cutting-kith-kin-collaborative-4423
END:VEVENT

END:VCALENDAR
