BEGIN:VCALENDAR
VERSION:2.0
PRODID:-//ChamberMaster//Event Calendar 2.0//EN
METHOD:PUBLISH
X-PUBLISHED-TTL:P3D
REFRESH-INTERVAL:P3D
CALSCALE:GREGORIAN
BEGIN:VEVENT
DTSTART:20240725T220000Z
DTEND:20240725T230000Z
X-MICROSOFT-CDO-ALLDAYEVENT:FALSE
SUMMARY:Ribbon Cutting: Renewal By Andersen
DESCRIPTION:Please join us in celebrating Renewal By Andersen's new location/showroom. Enjoy networking and hearing a few words from the team. The cut will follow announcements that begin at 5:15pm.\n\n\n\nAll Ribbon Cuttings in 2024 are supported by Presenting Sponsor\, Aureon. \n\n\n\nPlease feel free to reach out with any questions. Thank you for your support and we look forward to seeing you Thursday\, July 25th!\n\n\n\nNotice of Photographic & Media Recording: When you attend a West Des Moines Chamber event\, photography\, audio\, and video recording may occur. By attending this event\, you consent to such recording media and your image and likeness being used in connection with the advertising\, marketing\, and promotion of the WDM Chamber and/or City of West Des Moines.
X-ALT-DESC;FMTTYPE=text/html:<span style="color: rgb(51\, 51\, 51)\;"><span style="font-family: arial\, sans-serif\;"><span style="font-size: 10pt\;"><i>Please join us in celebrating <a href="https://renewalwindowsdesmoines.com/">Renewal By Andersen</a>&#39\;s new location/showroom</i><i>.&nbsp\;Enjoy networking and hearing a few words from the team. The cut will follow announcements that begin at 5:15pm.</i></span></span></span><br />\n<br />\n<em><span style="font-size: 10pt\; font-family: Arial\, sans-serif\;">All Ribbon Cuttings in 2024 are supported by Presenting Sponsor\,</span></em><em><span style="font-size: 10pt\; font-family: Arial\, sans-serif\; font-style: normal\;">&nbsp\;<a href="https://www.aureon.com/"><i>Aureon.</i></a></span></em><span style="color:#333333\;"><span style="font-family:arial\,sans-serif\;"><span style="font-size:10.0pt\;">&nbsp\;<br />\n<br />\n<em><span style="font-family:arial\,sans-serif\;">Please feel free to reach out with any questions. Thank you for your support and we look forward to seeing you Thursday\, July 25<sup>th</sup>!</span></em></span></span></span><br />\n<br />\n<strong><span style="color:#333333\;"><span style="font-family:arial\,sans-serif\;"><span style="font-size:7.5pt\;">Notice of Photographic &amp\; Media Recording</span></span></span></strong><span style="color:#333333\;"><span style="font-family:arial\,sans-serif\;"><span style="font-size:7.5pt\;">: When you attend a West Des Moines Chamber event\, photography\, audio\, and video recording may occur. By attending this event\, you consent to such recording media and your image and likeness being used in connection with the advertising\, marketing\, and promotion of the WDM Chamber and/or City of West Des Moines.</span></span></span>
LOCATION:225 S 11th Street West Des Moines\, IA 50265
UID:e.2655.3848
SEQUENCE:3
DTSTAMP:20260423T134941Z
URL:https://members.wdmchamber.org/events/details/ribbon-cutting-renewal-by-andersen-3848
END:VEVENT

END:VCALENDAR
