BEGIN:VCALENDAR
VERSION:2.0
PRODID:-//ChamberMaster//Event Calendar 2.0//EN
METHOD:PUBLISH
X-PUBLISHED-TTL:P3D
REFRESH-INTERVAL:P3D
CALSCALE:GREGORIAN
BEGIN:VEVENT
DTSTART:20240409T160000Z
DTEND:20240409T200000Z
X-MICROSOFT-CDO-ALLDAYEVENT:FALSE
SUMMARY:Richie Lee & the Fabulous 50’s
DESCRIPTION:Join Richie Lee & the Fabulous '50s as they perform Buddy Holly's biggest hits in the Finish Line Show Lounge. Must be 21 or older to attend. Free show!
X-ALT-DESC;FMTTYPE=text/html:<div>\n<div>\n<p>Join Richie Lee &amp\; the Fabulous &#39\;50s as they perform Buddy Holly&#39\;s biggest hits in the Finish Line Show Lounge. Must be 21 or older to attend. Free show!</p>\n</div>\n</div>\n
LOCATION:Prairie Meadows Casino\, Racetrack\, & Hotel 1 Prairie Meadows Dr\, Altoona\, IA
UID:e.2655.3688
SEQUENCE:3
DTSTAMP:20260423T184230Z
URL:https://members.wdmchamber.org/events/details/richie-lee-the-fabulous-50-s-04-09-2024-3688
END:VEVENT

END:VCALENDAR
