BEGIN:VCALENDAR
VERSION:2.0
PRODID:-//ChamberMaster//Event Calendar 2.0//EN
METHOD:PUBLISH
X-PUBLISHED-TTL:P3D
REFRESH-INTERVAL:P3D
CALSCALE:GREGORIAN
BEGIN:VEVENT
DTSTART:20250112T010000Z
DTEND:20250112T023000Z
X-MICROSOFT-CDO-ALLDAYEVENT:FALSE
SUMMARY:Rick Alviti: That's the Way it Was
DESCRIPTION:Enjoy RICK ALVITI'S "THAT'S THE WAY IT WAS"   A TRIBUTE TO ELVIS in the Finish Line Show Lounge.
X-ALT-DESC;FMTTYPE=text/html:<span style="font-size:12px"><span style="color:rgb(37\, 37\, 37)\; font-family:open sans\,sans-serif">Enjoy RICK ALVITI&rsquo\;S &ldquo\;THAT&rsquo\;S THE WAY IT WAS&rdquo\; &ndash\; A TRIBUTE TO ELVIS in the Finish Line Show Lounge.&nbsp\;</span></span>
LOCATION:Prairie Meadows Racetrack & Casino 1 Prairie Meadows Dr\, Altoona\, IA 50009
UID:e.2655.4407
SEQUENCE:3
DTSTAMP:20260420T101159Z
URL:https://members.wdmchamber.org/events/details/rick-alviti-that-s-the-way-it-was-4407
END:VEVENT

END:VCALENDAR
