BEGIN:VCALENDAR
VERSION:2.0
PRODID:-//ChamberMaster//Event Calendar 2.0//EN
METHOD:PUBLISH
X-PUBLISHED-TTL:P3D
REFRESH-INTERVAL:P3D
CALSCALE:GREGORIAN
BEGIN:VEVENT
DTSTART:20240428T010000Z
DTEND:20240428T040000Z
X-MICROSOFT-CDO-ALLDAYEVENT:FALSE
SUMMARY:Route 66
DESCRIPTION:Get your kicks with Route 66! This central Iowa band is playing for FREE in the Finish Line Show Lounge. Come enjoy their country\, classic rock\, and bluegrass music. Must be 21 or older to attend.
X-ALT-DESC;FMTTYPE=text/html:<div>\n<div>\n<p>Get your kicks with Route 66! This central Iowa band is playing for FREE in the Finish Line Show Lounge. Come enjoy their country\, classic rock\, and bluegrass music. Must be 21 or older to attend.</p>\n\n<div>&nbsp\;</div>\n</div>\n</div>\n
LOCATION:Prairie Meadows Casino\, Racetrack\, & Hotel 1 Prairie Meadows Dr\, Altoona\, IA
UID:e.2655.3698
SEQUENCE:3
DTSTAMP:20260423T183506Z
URL:https://members.wdmchamber.org/events/details/route-66-04-27-2024-3698
END:VEVENT

END:VCALENDAR
