BEGIN:VCALENDAR
VERSION:2.0
PRODID:-//ChamberMaster//Event Calendar 2.0//EN
METHOD:PUBLISH
X-PUBLISHED-TTL:P3D
REFRESH-INTERVAL:P3D
CALSCALE:GREGORIAN
BEGIN:VEVENT
DTSTART:20200122T220000Z
DTEND:20200123T000000Z
X-MICROSOFT-CDO-ALLDAYEVENT:FALSE
SUMMARY:Rush Hour: Platinum Signature Barbershop
DESCRIPTION:Enjoy hors d'oeuvres\, beverages\, and the opportunity to make new connections and grow your network! There will also be a ribbon cutting held at 5 PM.
X-ALT-DESC;FMTTYPE=text/html:<span style="font-size:18px\;"><span style="color: rgb(102\, 102\, 102)\; font-family: Lato\, sans-serif\;">Enjoy hors d&#39\;oeuvres\, beverages\, and the opportunity to make new connections and grow your network! There will also be a ribbon cutting held at 5 PM.&nbsp\;</span></span>
LOCATION:2600 University Avenue\, Suite 204 West Des Moines
UID:e.2655.990
SEQUENCE:3
DTSTAMP:20260425T120704Z
URL:https://members.wdmchamber.org/events/details/rush-hour-platinum-signature-barbershop-990
END:VEVENT

END:VCALENDAR
