BEGIN:VCALENDAR
VERSION:2.0
PRODID:-//ChamberMaster//Event Calendar 2.0//EN
METHOD:PUBLISH
X-PUBLISHED-TTL:P3D
REFRESH-INTERVAL:P3D
CALSCALE:GREGORIAN
BEGIN:VEVENT
DTSTART:20240706T230000Z
DTEND:20240707T013000Z
X-MICROSOFT-CDO-ALLDAYEVENT:FALSE
SUMMARY:Salvation Army night at the I-Cubs
DESCRIPTION:ICubs event   July 6th\n\nhttps://bit.ly/icubstsa2024\n\nFor General public:\n\nYou're invited to join us for a night of fun with the Iowa Cubs at Principal Park on Saturday\, July 6th.  In addition to hot dogs and home runs\, we'll have a chance to remind the community about all the important work the Salvation Army is doing - even in the summertime.  We'll have a table in the concourse and talk to people about our big Christmas in July event later in the month.  When you buy your tickets through this link\, the Salvation Army receives $4 from every ticket sold and you're still getting a great value to get into the game.  Please share with family and friends to come and have fun with us too.  Gates will open at 5:00 and everyone is welcome to go on the field to play catch before the game from 5:00-5:15.  It will be a great time.  See you there!\nIowa Cubs vs. Storm Chasers\nJul 06\, 2024 6:08 PM CDT\n\nPrincipal Park\n\n1 Line Dr\, Des Moines\, IA 50309\, US\n\nPurchase Deadline: Jul 01\, 2024 11:59 PM CDT\n\nTickets: $11.00\n\n \n\nFor employers:\n\nYou're invited to join us for a night of fun with the Iowa Cubs at Principal Park on Saturday\, July 6th.  When you buy your tickets through this link\, tickets are only $11 and the Salvation Army receives $4 from every ticket sold\, so you're getting a great value to get into the game.  Please share and invite employees\, family and friends to come and have fun with us too!\n\n \n\nYou can \n\n\n	Post in your breakroom\, on a company bulletin board or in a store window!\n	Send a companywide internal email encouraging staff to buy tickets and attend\, or\n	Buy a block of tickets for your company's employees to have a fun night! You'll be supporting a great cause and saying thank you to them!\n\n \n\nGates will open at 5:00 and everyone is welcome to go on the field to play catch before the game from 5:00-5:15. In addition to hot dogs and home runs\, we'll have a chance to remind the community about all the important work the Salvation Army is doing - even in the summer time.  We'll have a table in the concourse and talk to people about our big Christmas in July event later in the month. It will be a great time.  See you there!
X-ALT-DESC;FMTTYPE=text/html:<strong><span style="color:#050505"><span style="font-size:18.0pt">ICubs event &ndash\; July 6th</span></span></strong><br />\n<span style="color:black"><a href="https://bit.ly/icubstsa2024"><span style="font-size:12.0pt">https://bit.ly/icubstsa2024</span></a></span><br />\n<strong><u><span style="color:#050505"><span style="font-size:12.0pt">For General public:</span></span></u></strong><br />\n<span style="color:black"><span style="font-size:12.0pt">You&#39\;re invited to join us for a night of fun with the Iowa Cubs at Principal Park on Saturday\, July 6th.&nbsp\; In addition to hot dogs and home runs\, we&#39\;ll have a chance to remind the community about all the important work the Salvation Army is doing - even in the summertime.&nbsp\; We&#39\;ll have a table in the concourse and talk to people about our big Christmas in July event later in the month.&nbsp\; When you buy your tickets through this link\, the Salvation Army receives $4 from every ticket sold and you&#39\;re still getting a great value to get into the game.&nbsp\; Please share with family and friends to come and have fun with us too.&nbsp\; Gates will open at 5:00 and everyone is welcome to go on the field to play catch before the game from 5:00-5:15.&nbsp\; It will be a great time.&nbsp\; See you there!</span></span>\n<div style="background:white\; border:solid #E5E7EB 1.0pt\; padding:0in 0in 0in 0in"><strong><span style="color:black"><span style="font-size:12.0pt">Iowa Cubs vs. Storm Chasers</span></span></strong></div>\n<strong><span style="color:black"><span style="font-size:12.0pt">Jul 06\, 2024 6:08 PM CDT</span></span></strong><br />\n<strong><span style="color:black"><span style="font-size:12.0pt">Principal Park</span></span></strong><br />\n<span style="color:black"><span style="font-size:12.0pt">1 Line Dr\, Des Moines\, IA 50309</span></span><span style="color:black"><span style="font-size:12.0pt">\,&nbsp\;US</span></span><br />\n<strong><span style="color:black"><span style="font-size:12.0pt">Purchase Deadline:&nbsp\;Jul 01\, 2024 11:59 PM CDT</span></span></strong><br />\n<strong><span style="color:black"><span style="font-size:12.0pt">Tickets:&nbsp\;$11.00</span></span></strong><br />\n&nbsp\;<br />\n<strong><u><span style="color:#050505"><span style="font-size:12.0pt">For employers:</span></span></u></strong><br />\n<span style="font-size:12.0pt">You&#39\;re invited to join us for a night of fun with the Iowa Cubs at Principal Park on Saturday\, July 6th.&nbsp\; When you buy your tickets through </span><a href="https://fevo-enterprise.com/event/Salvationarmy624"><span style="font-size:12.0pt">this link</span></a><span style="font-size:12.0pt">\, tickets are only $11 and the Salvation Army receives $4 from every ticket sold\, so you&#39\;re getting a great value to get into the game.&nbsp\; Please share and invite employees\, family and friends to come and have fun with us too!</span><br />\n&nbsp\;<br />\n<strong><u><span style="font-size:12.0pt">You can&hellip\;</span></u></strong>\n\n<ul>\n	<li><strong><span style="font-family:calibri\,sans-serif">Post in your breakroom\, on a company bulletin board or in a store window!</span></strong></li>\n	<li><strong><span style="font-family:calibri\,sans-serif">Send a companywide internal email encouraging staff to buy tickets and attend\, or</span></strong></li>\n	<li><strong><span style="font-family:calibri\,sans-serif">Buy a block of tickets for your company&rsquo\;s employees to have a fun night! You&rsquo\;ll be supporting a great cause and saying thank you to them!</span></strong></li>\n</ul>\n&nbsp\;<br />\n<span style="font-size:12.0pt">Gates will open at 5:00 and everyone is welcome to go on the field to play catch before the game from 5:00-5:15.&nbsp\;In addition to hot dogs and home runs\, we&#39\;ll have a chance to remind the community about all the important work the Salvation Army is doing - even in the summer time.&nbsp\; We&#39\;ll have a table in the concourse and talk to people about our big Christmas in July event later in the month. It will be a great time.&nbsp\; See you there!</span>
LOCATION:
UID:e.2655.3808
SEQUENCE:3
DTSTAMP:20260423T155450Z
URL:https://members.wdmchamber.org/events/details/salvation-army-night-at-the-i-cubs-3808
END:VEVENT

END:VCALENDAR
