BEGIN:VCALENDAR
VERSION:2.0
PRODID:-//ChamberMaster//Event Calendar 2.0//EN
METHOD:PUBLISH
X-PUBLISHED-TTL:P3D
REFRESH-INTERVAL:P3D
CALSCALE:GREGORIAN
BEGIN:VEVENT
DTSTART:20220428T140000Z
DTEND:20220429T220000Z
X-MICROSOFT-CDO-ALLDAYEVENT:FALSE
SUMMARY:Sheraton Hiring Event
DESCRIPTION:Are you interested in a career in Hospitality? We offer competitive pay\, benefits\, \n\ndiscounts on hotel room bookings for you & your family! \n\nPlease come join us at our hiring event!\n\nThursday\, April 28\, 2022 And Friday\, April 29\, 2022\n\n9:00am 5:00pm\n\n Sheraton hotel \n\n1800 50th St\, West Des Moines\, Iowa\n\nHousekeeping manager\, transportation Specialist\n\nHousekeeping room attendants\, Restaurant Bartender/servers\n\n \n\nVisit  www.atriumhospitality.com/your-career\n\nto see  additional postings.\n\nWe ARE ATRIUM  HOSPITALITY\, COME GROW WITH US!\n\n \n\nEOE\, including veteran/disability
X-ALT-DESC;FMTTYPE=text/html:<em><span style="color:#2D4E6B"><span style="font-family:calibri">Are you interested in a career in Hospitality? We offer competitive pay\, benefits\, </span></span></em><br />\n<em><span style="color:#2D4E6B"><span style="font-family:calibri">discounts on hotel room bookings for you &amp\; your family! </span></span></em><br />\n<em><span style="color:#2D4E6B"><span style="font-family:calibri"><span style="font-size:20.0pt">Please come join us at our </span></span></span></em><em><span style="color:#0070C0"><span style="font-family:calibri"><span style="font-size:20.0pt">hiring event!</span></span></span></em><br />\n<em><span style="color:#2D4E6B"><span style="font-family:calibri"><span style="font-size:20.0pt">Thursday\, April 28\, 2022 And Friday\, April 29\, 2022</span></span></span></em><br />\n<em><span style="color:#2D4E6B"><span style="font-family:calibri"><span style="font-size:20.0pt">9:00am&mdash\;5:00pm</span></span></span></em><br />\n<em><span style="color:#2D4E6B"><span style="font-family:calibri"><span style="font-size:20.0pt">&nbsp\;Sheraton hotel </span></span></span></em><br />\n<em><span style="color:#2D4E6B"><span style="font-family:calibri"><span style="font-size:20.0pt">1800 50th St\, West Des Moines\, Iowa</span></span></span></em><br />\n<span style="color:#0070C0"><span style="font-family:impact"><span style="font-size:14.0pt">Housekeeping manager\, transportation Specialist</span></span></span><br />\n<span style="color:#0070C0"><span style="font-family:impact"><span style="font-size:14.0pt">Housekeeping room attendants\, Restaurant Bartender/servers</span></span></span><br />\n&nbsp\;<br />\n<span style="color:#2D4E6B"><span style="font-family:impact"><span style="font-size:15.0pt">Visit&nbsp\; </span></span></span><a href="https://atriumhospitality.com/your-career/"><u><span style="font-family:impact"><span style="font-size:15.0pt">www.atriumh</span></span></u></a><a href="https://atriumhospitality.com/your-career/"><u><span style="font-family:impact"><span style="font-size:15.0pt">ospitality.com/your-career</span></span></u></a><br />\n<span style="color:#2D4E6B"><span style="font-family:impact"><span style="font-size:15.0pt">to see&nbsp\; additional postings.</span></span></span><br />\n<span style="font-size:15pt"><span style="font-family:impact"><span style="color:#394662">We ARE ATRIUM&nbsp\; </span></span></span><span style="font-size:15pt"><span style="font-family:impact"><span style="color:#394662">HOSPITALITY\, COME GROW WITH US!</span></span></span><br />\n&nbsp\;<br />\n<strong><span style="font-family:calibri">EOE\, including veteran/disability</span></strong><br />\n&nbsp\;
LOCATION:1800 50th St\, West Des Moines\, Iowa
UID:e.2655.1554
SEQUENCE:3
DTSTAMP:20260422T040415Z
URL:https://members.wdmchamber.org/events/details/sheraton-hiring-event-04-28-2022-1554
END:VEVENT

END:VCALENDAR
