BEGIN:VCALENDAR
VERSION:2.0
PRODID:-//ChamberMaster//Event Calendar 2.0//EN
METHOD:PUBLISH
X-PUBLISHED-TTL:P3D
REFRESH-INTERVAL:P3D
CALSCALE:GREGORIAN
BEGIN:VEVENT
DTSTART;VALUE=DATE:20250124
DTEND;VALUE=DATE:20250126
TRANSP:TRANSPARENT
X-MICROSOFT-CDO-ALLDAYEVENT:TRUE
SUMMARY:SPLURGE at West End Architectural Salvage
DESCRIPTION:Charles Group Real Estate is proud to be a sponsor of SPLURGE at West End Architectural Salvage January 24 & 25! Join us from 6-9PM Friday\, Saturday\, or both days!\n\n\n\nAll you can get of...\n\nWine\n\nCheese\n\nChocolate\n\nLive Music\n\n& More!\n\n\n\nGet your tickets at: https:splurge-event.eventbrite.com\n\n\n\nOR become a business sponsor of the best January event in Des Moines and get a ticket package based on sponsorship level! Contact us for sponsorship info.
X-ALT-DESC;FMTTYPE=text/html:Charles Group Real Estate is proud to be a sponsor of SPLURGE at West End Architectural Salvage January 24 &amp\; 25! Join us from 6-9PM Friday\, Saturday\, or both days!<br />\n<br />\nAll you can get of...<br />\nWine<br />\nCheese<br />\nChocolate<br />\nLive Music<br />\n&amp\; More!<br />\n<br />\nGet your tickets at: https:splurge-event.eventbrite.com<br />\n<br />\nOR become a business sponsor of the best January event in Des Moines and get a ticket package based on sponsorship level! Contact us for sponsorship info.&nbsp\;
LOCATION:West End Architectural Salvage 22 9th St Des Moines\, IA 50309
UID:e.2655.4446
SEQUENCE:3
DTSTAMP:20260420T095907Z
URL:https://members.wdmchamber.org/events/details/splurge-at-west-end-architectural-salvage-4446
END:VEVENT

END:VCALENDAR
