BEGIN:VCALENDAR
VERSION:2.0
PRODID:-//ChamberMaster//Event Calendar 2.0//EN
METHOD:PUBLISH
X-PUBLISHED-TTL:P3D
REFRESH-INTERVAL:P3D
CALSCALE:GREGORIAN
BEGIN:VEVENT
DTSTART:20260503T190000Z
DTEND:20260503T220000Z
X-MICROSOFT-CDO-ALLDAYEVENT:FALSE
SUMMARY:Spring Festival
DESCRIPTION:Join us for a joyful afternoon at our Spring Festival at the church! This free\, family-friendly event is open to the entire community and is a great opportunity to relax\, have fun and connect with friends and neighbors. There will be something for everyone to enjoy including live music\, inflatables\, a petting zoo\, food trucks\, games\, face painting\, crafts\, a photo booth\, a prayer station and hands-on service opportunities. Kids can also come check out a West Des Moines firetruck\, and we will welcome special guests from Life 107.1. Whether you come for the music\, the food\, the kids' activities\, or simply to spend time with others in the community\, we'd love to have you there! Invite a friend\, bring the family and come celebrate spring with us!
X-ALT-DESC;FMTTYPE=text/html:Join us for a joyful afternoon at our Spring Festival at the church! This free\, family-friendly event is open to the entire community and is a great opportunity to relax\, have fun and connect with friends and neighbors. There will be something for everyone to enjoy including live music\, inflatables\, a petting zoo\, food trucks\, games\, face painting\, crafts\, a photo booth\, a prayer station and hands-on service opportunities. Kids can also come check out a West Des Moines firetruck\, and we will welcome special guests from Life 107.1. Whether you come for the music\, the food\, the kids&rsquo\; activities\, or simply to spend time with others in the community\, we&rsquo\;d love to have you there! Invite a friend\, bring the family and come celebrate spring with us!
LOCATION:Shepherd of the Valley Lutheran Church 3900 Ashworth Road West Des Moines\, IA 50266
UID:e.2655.5350
SEQUENCE:3
DTSTAMP:20260423T114321Z
URL:https://members.wdmchamber.org/events/details/spring-festival-5350
END:VEVENT

END:VCALENDAR
