BEGIN:VCALENDAR
VERSION:2.0
PRODID:-//ChamberMaster//Event Calendar 2.0//EN
METHOD:PUBLISH
X-PUBLISHED-TTL:P3D
REFRESH-INTERVAL:P3D
CALSCALE:GREGORIAN
BEGIN:VEVENT
DTSTART:20260401T210000Z
DTEND:20260401T230000Z
X-MICROSOFT-CDO-ALLDAYEVENT:FALSE
SUMMARY:Spring Investor Mix & Mingle in Historic Valley Junction
DESCRIPTION:Join us for an evening of connection\, conversation\, and celebration as we welcome spring together in one of West Des Moines' most beloved districts. The West Des Moines Chamber of Commerce invites our valued Investors & President's Council Members to a special Mix & Mingle at Winchester Public House in the heart of Historic Valley Junction.\n\nWinchester Public House\n\n224 5th Street\, West Des Moines\n\n\n\nDate: Wednesday\, April 1\n\nTime: 4:00   6:00 PM\n\n\n\nAnnouncements at 5:00 PM\n\nEnjoy complimentary appetizers and your first drink on the house while connecting with fellow business leaders\, strengthening relationships\, and sparking new opportunities for collaboration.\n\nCome raise a glass\, reconnect with friends\, and help us continue building momentum for our business community.\n\nWe look forward to seeing you in Valley Junction!\n\nNote: This event is exclusively for Investor Members. If you're interested in becoming an Investor Member\, please contact your account representative for more information. Registrants who are not currently at the Investor level will be contacted regarding a membership upgrade prior to attending.
X-ALT-DESC;FMTTYPE=text/html:<div class="x_elementToProof" style="border: 0px\; font-variant-numeric: inherit\; font-variant-east-asian: inherit\; font-variant-alternates: inherit\; font-variant-position: inherit\; font-variant-emoji: inherit\; font-stretch: inherit\; font-size: 12pt\; line-height: inherit\; font-family: Aptos\, Aptos_EmbeddedFont\, Aptos_MSFontService\, Calibri\, Helvetica\, sans-serif\, serif\, EmojiFont\; font-optical-sizing: inherit\; font-size-adjust: inherit\; font-kerning: inherit\; font-feature-settings: inherit\; font-variation-settings: inherit\; margin: 1em 0px\; padding: 0px\; vertical-align: baseline\; color: rgb(0\, 0\, 0) !important\;">\n<p class="x_elementToProof" style="border: 0px\; font-variant-numeric: inherit\; font-variant-east-asian: inherit\; font-variant-alternates: inherit\; font-variant-position: inherit\; font-variant-emoji: inherit\; font-stretch: inherit\; font-size: 12pt\; line-height: inherit\; font-family: Aptos\, Aptos_EmbeddedFont\, Aptos_MSFontService\, Calibri\, Helvetica\, sans-serif\, serif\, EmojiFont\; font-optical-sizing: inherit\; font-size-adjust: inherit\; font-kerning: inherit\; font-feature-settings: inherit\; font-variation-settings: inherit\; font-language-override: inherit\; margin: 1em 0px\; padding: 0px\; vertical-align: baseline\; background-color: rgb(255\, 255\, 255)\;"><span style="font-size:14px\;"><span style="font-family:arial\;">&#8203\;Join us for an evening of connection\, conversation\, and celebration as we welcome spring together in one of West Des Moines&rsquo\; most beloved districts. The West Des Moines Chamber of Commerce invites our valued <b>Investors</b> &amp\; <b>President&#39\;s Council Members</b> to a special Mix &amp\; Mingle at Winchester Public House in the heart of Historic Valley Junction.</span></span></p>\n\n<p class="x_elementToProof" style="border: 0px\; font-variant-numeric: inherit\; font-variant-east-asian: inherit\; font-variant-alternates: inherit\; font-variant-position: inherit\; font-variant-emoji: inherit\; font-stretch: inherit\; font-size: 12pt\; line-height: inherit\; font-family: Aptos\, Aptos_EmbeddedFont\, Aptos_MSFontService\, Calibri\, Helvetica\, sans-serif\, serif\, EmojiFont\; font-optical-sizing: inherit\; font-size-adjust: inherit\; font-kerning: inherit\; font-feature-settings: inherit\; font-variation-settings: inherit\; font-language-override: inherit\; margin: 1em 0px\; padding: 0px\; vertical-align: baseline\; background-color: rgb(255\, 255\, 255)\;"><span style="font-size:14px\;"><span style="font-family:arial\;"><b>Winchester Public House</b><br />\n224 5th Street\, West Des Moines<br />\n<br />\n<b>Date: Wednesday\, April 1</b><br />\n<b>Time: 4:00 &ndash\; 6:00 PM</b><br />\n<br />\n<b>Announcements at 5:00 PM</b></span></span></p>\n\n<p class="x_elementToProof" style="border: 0px\; font-variant-numeric: inherit\; font-variant-east-asian: inherit\; font-variant-alternates: inherit\; font-variant-position: inherit\; font-variant-emoji: inherit\; font-stretch: inherit\; font-size: 12pt\; line-height: inherit\; font-family: Aptos\, Aptos_EmbeddedFont\, Aptos_MSFontService\, Calibri\, Helvetica\, sans-serif\, serif\, EmojiFont\; font-optical-sizing: inherit\; font-size-adjust: inherit\; font-kerning: inherit\; font-feature-settings: inherit\; font-variation-settings: inherit\; font-language-override: inherit\; margin: 1em 0px\; padding: 0px\; vertical-align: baseline\; background-color: rgb(255\, 255\, 255)\;"><span style="font-size:14px\;"><span style="font-family:arial\;">Enjoy complimentary appetizers and your first drink on the house while connecting with fellow business leaders\, strengthening relationships\, and sparking new opportunities for collaboration.</span></span></p>\n\n<p class="x_elementToProof" style="border: 0px\; font-variant-numeric: inherit\; font-variant-east-asian: inherit\; font-variant-alternates: inherit\; font-variant-position: inherit\; font-variant-emoji: inherit\; font-stretch: inherit\; font-size: 12pt\; line-height: inherit\; font-family: Aptos\, Aptos_EmbeddedFont\, Aptos_MSFontService\, Calibri\, Helvetica\, sans-serif\, serif\, EmojiFont\; font-optical-sizing: inherit\; font-size-adjust: inherit\; font-kerning: inherit\; font-feature-settings: inherit\; font-variation-settings: inherit\; font-language-override: inherit\; margin: 1em 0px\; padding: 0px\; vertical-align: baseline\; background-color: rgb(255\, 255\, 255)\;"><span style="font-size:14px\;"><span style="font-family:arial\;">Come raise a glass\, reconnect with friends\, and help us continue building momentum for our business community.</span></span></p>\n\n<p class="x_elementToProof" style="border: 0px\; font-variant-numeric: inherit\; font-variant-east-asian: inherit\; font-variant-alternates: inherit\; font-variant-position: inherit\; font-variant-emoji: inherit\; font-stretch: inherit\; font-size: 12pt\; line-height: inherit\; font-family: Aptos\, Aptos_EmbeddedFont\, Aptos_MSFontService\, Calibri\, Helvetica\, sans-serif\, serif\, EmojiFont\; font-optical-sizing: inherit\; font-size-adjust: inherit\; font-kerning: inherit\; font-feature-settings: inherit\; font-variation-settings: inherit\; font-language-override: inherit\; margin: 1em 0px\; padding: 0px\; vertical-align: baseline\; background-color: rgb(255\, 255\, 255)\;"><span style="font-size:14px\;"><span style="font-family:arial\;">We look forward to seeing you in Valley Junction!</span></span></p>\n\n<p class="x_elementToProof" style="border: 0px\; font-variant-numeric: inherit\; font-variant-east-asian: inherit\; font-variant-alternates: inherit\; font-variant-position: inherit\; font-variant-emoji: inherit\; font-stretch: inherit\; font-size: 12pt\; line-height: inherit\; font-family: Aptos\, Aptos_EmbeddedFont\, Aptos_MSFontService\, Calibri\, Helvetica\, sans-serif\, serif\, EmojiFont\; font-optical-sizing: inherit\; font-size-adjust: inherit\; font-kerning: inherit\; font-feature-settings: inherit\; font-variation-settings: inherit\; font-language-override: inherit\; margin: 1em 0px\; padding: 0px\; vertical-align: baseline\; background-color: rgb(255\, 255\, 255)\;"><span style="color:#FF0000\;"><span style="font-size:14px\;"><span style="font-family:arial\;"><strong>Note: This event is exclusively for Investor Members. If you&rsquo\;re interested in becoming an Investor Member\, please contact your account representative for more information. Registrants who are not currently at the Investor level will be contacted regarding a membership upgrade prior to attending.</strong></span></span></span></p>\n</div>\n
LOCATION:Winchester Public House 224 5th Street West Des Moines
UID:e.2655.5297
SEQUENCE:3
DTSTAMP:20260419T182306Z
URL:https://members.wdmchamber.org/events/details/spring-investor-mix-mingle-in-historic-valley-junction-5297
END:VEVENT

END:VCALENDAR
