BEGIN:VCALENDAR
VERSION:2.0
PRODID:-//ChamberMaster//Event Calendar 2.0//EN
METHOD:PUBLISH
X-PUBLISHED-TTL:P3D
REFRESH-INTERVAL:P3D
CALSCALE:GREGORIAN
BEGIN:VEVENT
DTSTART:20220609T163000Z
DTEND:20220609T180000Z
X-MICROSOFT-CDO-ALLDAYEVENT:FALSE
SUMMARY:State of the City & Citizen of the Year Luncheon
DESCRIPTION:Join us on June 9th to hear from the West Des Moines Mayor Russ Trimble on an update of the 2021-2022 State of the City. \n\n\n\nThe WDM Chamber and city of West Des Moines also annually recognize a WDM resident or business professional for Citizen of the Year in addition to honoring an Emerging Citizen of the Year with an award. These honors were created to promote and recognize the people\, businesses and civic organizations that make this a great community in which to live\, work and raise a family. Join us to honor 2022 Citizen of the Year\, former Mayor Steve Gaer and Emerging Citizen of the Year\, Gianna Pugliese. These individuals have made such an impact on our community. \n\nView past honorees here.\n\n\n\n\n\nNotice of Photographic & Media Recording: When you attend a West Des Moines Chamber of Commerce event\, photography\, audio\, and video recording may occur. By attending this event\, you consent to such recording media and your image and likeness being used in connection with the advertising\, marketing\, and promotion of the West Des Moines Chamber of Commerce and/or City of West Des Moines.
X-ALT-DESC;FMTTYPE=text/html:<p><span style="color:#000000\;"><span style="font-size:14px\;"><span style="font-family:arial\;">Join us on June 9th&nbsp\;to hear from the West Des Moines&nbsp\;<strong>Mayor Russ Trimble</strong>&nbsp\;on an update of the 2021-2022&nbsp\;State of the City.&nbsp\;<br />\n<br />\nThe WDM Chamber and city of West Des Moines also annually&nbsp\;</span></span><span style="font-size:14px\;"><span style="font-family:arial\;"><span style="box-sizing: border-box\;"><span style="box-sizing: border-box\;">recognize a WDM resident or business professional for Citizen of the Year in addition to honoring an Emerging Citizen of the Year with an award.&nbsp\;These honors were created to promote and recognize the people\, businesses and civic organizations that make this a great community in which to live\, work and raise a family</span></span>.&nbsp\;</span></span></span><span style="font-size:14px\;"><span style="font-family:arial\;">Join us to honor <strong>2022 Citizen of the Year\, former Mayor Steve Gaer and Emerging Citizen of the Year\, Gianna Pugliese.</strong> These individuals have made such an impact on our community.&nbsp\;</span></span></p>\n\n<p style="box-sizing: border-box\; font-size: 20px\; line-height: 1.5\; margin-top: 0px\; margin-bottom: 1rem\; font-family: Montserrat\, sans-serif\; color: rgb(25\, 25\, 25)\;"><a href="https://wdmchamber.org/wp-content/uploads/2020/06/Past-Honorees.pdf"><span style="font-size:14px\;"><span style="font-family:arial\;"><span style="box-sizing: border-box\;"><span style="box-sizing: border-box\;">View past honorees here.</span></span></span></span></a><br />\n<br />\n<br />\n<strong style="font-size: 10px\;">Notice of Photographic &amp\; Media Recording</strong><span style="font-size: 10px\;">: When you attend a West Des Moines Chamber of Commerce event\, photography\, audio\, and video recording may occur. By attending this event\, you consent to such recording media and your image and likeness being used in connection with the advertising\, marketing\, and promotion of the West Des Moines Chamber of Commerce and/or City of West Des Moines.</span></p>\n
LOCATION:Valley Community Center 4444 Fuller Rd\, West Des Moines\, IA 50265
UID:e.2655.1489
SEQUENCE:3
DTSTAMP:20260425T131226Z
URL:https://members.wdmchamber.org/events/details/state-of-the-city-citizen-of-the-year-luncheon-1489
END:VEVENT

END:VCALENDAR
