BEGIN:VCALENDAR
VERSION:2.0
PRODID:-//ChamberMaster//Event Calendar 2.0//EN
METHOD:PUBLISH
X-PUBLISHED-TTL:P3D
REFRESH-INTERVAL:P3D
CALSCALE:GREGORIAN
BEGIN:VEVENT
DTSTART:20231010T170000Z
DTEND:20231010T174500Z
X-MICROSOFT-CDO-ALLDAYEVENT:FALSE
SUMMARY:State of the Market
DESCRIPTION:In this series\, we will give quarterly updates on the state of the markets and economy. We will also cover strategies and investments that may be utilized to keep you on track with your specific objectives for your retirement and investment accounts.\n\nSpeaker: Jason Willenborg\, Investment Advisor at Accel Wealth Management
X-ALT-DESC;FMTTYPE=text/html:<p><span style="font-family:tahoma"><span style="color:rgb(35\, 35\, 51)\; font-size:14px">In this series\, we will give quarterly updates on the state of the markets and economy. We will also cover strategies and investments that may be utilized to keep you on track with your specific objectives for your retirement and investment accounts.</span></span></p>\n\n<h3><span style="font-family:tahoma"><span style="font-size:16px"><span style="color:rgb(0\, 84\, 137)"><strong><span style="font-size:14px">Speaker:</span></strong></span><span style="font-size:14px">&nbsp\;<a href="https://www.accelwealthmanagement.com/team/jason-willenborg">Jason Willenborg</a>\, Investment Advisor at Accel Wealth Management</span></span></span></h3>\n
LOCATION:Virtual (Zoom Webinar) To register\, click here.
UID:e.2655.3476
SEQUENCE:3
DTSTAMP:20260426T004129Z
URL:https://members.wdmchamber.org/events/details/state-of-the-market-10-10-2023-3476
END:VEVENT

END:VCALENDAR
