BEGIN:VCALENDAR
VERSION:2.0
PRODID:-//ChamberMaster//Event Calendar 2.0//EN
METHOD:PUBLISH
X-PUBLISHED-TTL:P3D
REFRESH-INTERVAL:P3D
CALSCALE:GREGORIAN
BEGIN:VEVENT
DTSTART:20231015T193000Z
DTEND:20231015T203000Z
X-MICROSOFT-CDO-ALLDAYEVENT:FALSE
SUMMARY:The Iowa Files: Camp Dodge\; Always Ready
DESCRIPTION:During 1917-1918\, Camp Dodge Iowa became the largest military base in Iowa's history. Gold Star Museum Curator Mike Vogt will share an illustrated presentation exploring the training activities conducted in support of the US Army's victory in World War I. \n\n\n\nPresented in partnership with the West Des Moines Public Library and with the support of the Friends Foundation of the West Des Moines Library\, the Iowa Arts Council and EMC Insurance. \n\n \n\nPrograms are in person and can be watched live on the WDMHS YouTube Channel  or our Facebook Page
X-ALT-DESC;FMTTYPE=text/html:<span style="font-size:14px"><span style="font-family:tahoma">During 1917-1918\, Camp Dodge Iowa became the largest military base in Iowa&#39\;s history. Gold Star Museum Curator Mike Vogt will share an illustrated presentation exploring the training activities conducted in support&nbsp\;of the US Army&#39\;s victory in World War I.&nbsp\;<br />\n<br />\n<span style="color:#3C4043">Presented in partnership with the West Des Moines Public Library and with the support of the Friends Foundation of the West Des Moines Library\, the Iowa Arts Council and EMC Insurance.&nbsp\;</span><br />\n&nbsp\;<br />\n<span style="color:#3C4043">Programs are in person and can be watched live on the WDMHS&nbsp\;<a href="https://www.youtube.com/@westdesmoineshistoricalsociety"><span style="color:blue">YouTube Channel&nbsp\;</span></a>&nbsp\;or our&nbsp\;<a href="https://www.facebook.com/WestDesMoinesHistoricalSociety"><span style="color:blue">Facebook Page</span></a></span></span></span><br />\n&nbsp\;<br />\n&nbsp\;
LOCATION:West Des Moines Public Library 4000 Mills Civic Parkway West Des Monies\, IA 50265
UID:e.2655.3463
SEQUENCE:3
DTSTAMP:20260424T060352Z
URL:https://members.wdmchamber.org/events/details/the-iowa-files-camp-dodge-always-ready-3463
END:VEVENT

END:VCALENDAR
