BEGIN:VCALENDAR
VERSION:2.0
PRODID:-//ChamberMaster//Event Calendar 2.0//EN
METHOD:PUBLISH
X-PUBLISHED-TTL:P3D
REFRESH-INTERVAL:P3D
CALSCALE:GREGORIAN
BEGIN:VEVENT
DTSTART:20240727T150000Z
DTEND:20240728T050000Z
X-MICROSOFT-CDO-ALLDAYEVENT:FALSE
SUMMARY:The Unfortunate Sons
DESCRIPTION:Get ready for fun with The Unfortunate Sons. This Des Moines based band covers hits and hidden gems from 70s & 80s rock and pop. See their FREE show in the Finish Line Show Lounge. Must be 21 or older to attend.
X-ALT-DESC;FMTTYPE=text/html:Get ready for fun with The Unfortunate Sons. This Des Moines based band covers hits and hidden gems from 70s &amp\; 80s rock and pop. See their FREE show in the Finish Line Show Lounge. Must be 21 or older to attend.
LOCATION:Prairie Meadows Casino\, Hotel\, & Racetrack 1 Prairie Meadows Dr\, Altoona\, IA 50009
UID:e.2655.3793
SEQUENCE:3
DTSTAMP:20260423T134941Z
URL:https://members.wdmchamber.org/events/details/the-unfortunate-sons-07-27-2024-3793
END:VEVENT

END:VCALENDAR
