BEGIN:VCALENDAR
VERSION:2.0
PRODID:-//ChamberMaster//Event Calendar 2.0//EN
METHOD:PUBLISH
X-PUBLISHED-TTL:P3D
REFRESH-INTERVAL:P3D
CALSCALE:GREGORIAN
BEGIN:VEVENT
DTSTART:20240423T160000Z
DTEND:20240423T200000Z
X-MICROSOFT-CDO-ALLDAYEVENT:FALSE
SUMMARY:Tom Hofer & the Iowa Playboys
DESCRIPTION:Do a little two-step and twirl with the classic country twang of Tom Hofer & the Iowa Playboys. FREE SHOW! Must be 21 or older to attend.
X-ALT-DESC;FMTTYPE=text/html:<div>\n<div>\n<p>Do a little two-step and twirl with the classic country twang of Tom Hofer &amp\; the Iowa Playboys. FREE SHOW! Must be 21 or older to attend.</p>\n\n<div>&nbsp\;</div>\n\n<p>&nbsp\;</p>\n</div>\n</div>\n
LOCATION:Prairie Meadows Casino\, Racetrack\, & Hotel 1 Prairie Meadows Dr\, Altoona\, IA
UID:e.2655.3690
SEQUENCE:3
DTSTAMP:20260423T184246Z
URL:https://members.wdmchamber.org/events/details/tom-hofer-the-iowa-playboys-04-23-2024-3690
END:VEVENT

END:VCALENDAR
