BEGIN:VCALENDAR
VERSION:2.0
PRODID:-//ChamberMaster//Event Calendar 2.0//EN
METHOD:PUBLISH
X-PUBLISHED-TTL:P3D
REFRESH-INTERVAL:P3D
CALSCALE:GREGORIAN
BEGIN:VEVENT
DTSTART:20240709T160000Z
DTEND:20240709T200000Z
X-MICROSOFT-CDO-ALLDAYEVENT:FALSE
SUMMARY:Tommy Browder & the Country River Band
DESCRIPTION:Come listen to Tommy Browder & the Country River Band play in the Finish Line Show Lounge. You'll be dancing all night long as they perform country tunes in this FREE show. Must be 21 or older to attend.
X-ALT-DESC;FMTTYPE=text/html:Come listen to Tommy Browder &amp\; the Country River Band play in the Finish Line Show Lounge. You&rsquo\;ll be dancing all night long as they perform country tunes in this FREE show. Must be 21 or older to attend.
LOCATION:Prairie Meadows Casino\, Racetrack\, & Hotel 1 Prairie Meadows Dr\, Altoona\, IA 50009
UID:e.2655.3782
SEQUENCE:3
DTSTAMP:20260423T135300Z
URL:https://members.wdmchamber.org/events/details/tommy-browder-the-country-river-band-07-09-2024-3782
END:VEVENT

END:VCALENDAR
