BEGIN:VCALENDAR
VERSION:2.0
PRODID:-//ChamberMaster//Event Calendar 2.0//EN
METHOD:PUBLISH
X-PUBLISHED-TTL:P3D
REFRESH-INTERVAL:P3D
CALSCALE:GREGORIAN
BEGIN:VEVENT
DTSTART:20200910T163000Z
DTEND:20200910T180000Z
X-MICROSOFT-CDO-ALLDAYEVENT:FALSE
SUMMARY:Virtual Luncheon with Jamie Pollard
DESCRIPTION:Cy-Hawk week may not have the infamous rivalry game this year\, but we wanted to carry on the spirit by bringing in Jamie Pollard to speak during what would normally be Cy-Hawk week!
X-ALT-DESC;FMTTYPE=text/html:<span style="color: rgb(32\, 32\, 32)\; font-family: Roboto\, &quot\;Helvetica Neue&quot\;\, Helvetica\, Arial\, sans-serif\; font-size: 14px\;">Cy-Hawk week may not have the infamous rivalry game this year\, but we wanted to carry on the spirit by bringing in Jamie Pollard to speak during what would normally be Cy-Hawk week!</span>
LOCATION:Virtual event. Attendees will receive a link 24 hours before the event.
UID:e.2655.958
SEQUENCE:3
DTSTAMP:20260420T132147Z
URL:https://members.wdmchamber.org/events/details/virtual-luncheon-with-jamie-pollard-958
END:VEVENT

END:VCALENDAR
