BEGIN:VCALENDAR
VERSION:2.0
PRODID:-//ChamberMaster//Event Calendar 2.0//EN
METHOD:PUBLISH
X-PUBLISHED-TTL:P3D
REFRESH-INTERVAL:P3D
CALSCALE:GREGORIAN
BEGIN:VEVENT
DTSTART:20240425T220000Z
DTEND:20240426T000000Z
X-MICROSOFT-CDO-ALLDAYEVENT:FALSE
SUMMARY:Waukee Area Christian Services Fundraiser After-Party
DESCRIPTION:Please join us Palms Theatres from 5-7pm.\n\nWinner of $2000 Target gift card raffle selected.\n\nCanned Food Sculpture Contest Winner announced.
X-ALT-DESC;FMTTYPE=text/html:Please join us Palms Theatres from 5-7pm.<br />\nWinner of $2000 Target gift card raffle selected.<br />\nCanned Food Sculpture Contest Winner announced.
LOCATION:
UID:e.2655.3705
SEQUENCE:3
DTSTAMP:20260423T184057Z
URL:https://members.wdmchamber.org/events/details/waukee-area-christian-services-fundraiser-after-party-3705
END:VEVENT

END:VCALENDAR
