BEGIN:VCALENDAR
VERSION:2.0
PRODID:-//ChamberMaster//Event Calendar 2.0//EN
METHOD:PUBLISH
X-PUBLISHED-TTL:P3D
REFRESH-INTERVAL:P3D
CALSCALE:GREGORIAN
BEGIN:VEVENT
DTSTART:20240425T230000Z
DTEND:20240425T230000Z
X-MICROSOFT-CDO-ALLDAYEVENT:FALSE
SUMMARY:Waukee Area Christian Services Raffle
DESCRIPTION:Purchase a $20 raffle ticket to win a $2000 Target gift card and give 4 families fresh produce. Available for purchase now through April 25 at 6PM.
X-ALT-DESC;FMTTYPE=text/html:<strong>Purchase a $20 raffle ticket to win a $2000 Target gift card and give 4 families fresh produce. Available for purchase now through April 25 at 6PM.</strong>
LOCATION:
UID:e.2655.3704
SEQUENCE:3
DTSTAMP:20260423T183746Z
URL:https://members.wdmchamber.org/events/details/waukee-area-christian-services-raffle-3704
END:VEVENT

END:VCALENDAR
