BEGIN:VCALENDAR
VERSION:2.0
PRODID:-//ChamberMaster//Event Calendar 2.0//EN
METHOD:PUBLISH
X-PUBLISHED-TTL:P3D
REFRESH-INTERVAL:P3D
CALSCALE:GREGORIAN
BEGIN:VEVENT
DTSTART:20240723T220000Z
DTEND:20240723T233000Z
X-MICROSOFT-CDO-ALLDAYEVENT:FALSE
SUMMARY:WDM Leadership Academy Alumni: I-Cubs Tailgate Social
DESCRIPTION:Calling all WDMLA Alumni: Mark your calendars\, and dust off your jerseys!   \n\n\n\nEach year\, the Greater Des Moines Partnership hosts a night of fun and connection at an iCubs game for all regional Chamber members. The WDM Leadership Academy will have a special tent alongside this tailgate so you can not only mingle with leaders from across the metro\, but also reconnect with your fellow WDMLA graduates in a designated space.\n\n\n\nStep 1: \n\nRSVP on this page so we can stock up on enough complimentary drinks\, hotdogs\, and chips. \n\n\n\nStep 2 (IMPORTANT!): \n\nIf you plan to stay for the game itself\, be sure to get your $3 discounted tickets here through the Partnership. \n\n\n\nWe encourage you to bring your family--simply add them to your RSVP! Let's root for the iCubs together and create some unforgettable memories cheering on the home team.\n\n \nPlease note to prepare for the game: \n\n\n	Tailgate Location: We will be in the Southwest corner of the parking lot\, north of Principal Park \n	Bag Policy: The only bags allowed inside Principal Park are CLEAR BAGS smaller than 12in long x 12in tall x 6in wide. Small clutches no larger than 4.5in   6.5in will also be permitted. \n	Cashless Facility
X-ALT-DESC;FMTTYPE=text/html:<br />\n<span style="font-size:16px\;"><span data-sheets-formula-bar-text-style="font-size:13px\;color:#000000\;font-weight:normal\;text-decoration:none\;font-family:'Arial'\;font-style:normal\;text-decoration-skip-ink:none\;" font-size:="" google="" style="color: rgb(31\, 31\, 31)\; font-family: " white-space-collapse:=""><strong>Calling all WDMLA Alumni:&nbsp\;</strong></span><span style="color: rgb(31\, 31\, 31)\;">Mark your calendars\, and dust off your jerseys!</span><span data-sheets-formula-bar-text-style="font-size:13px\;color:#000000\;font-weight:normal\;text-decoration:none\;font-family:'Arial'\;font-style:normal\;text-decoration-skip-ink:none\;" font-size:="" google="" style="color: rgb(31\, 31\, 31)\; font-family: " white-space-collapse:=""> &#9918\;&#65039\;<br />\n<br />\nEach year\, the Greater Des Moines Partnership hosts a night of fun and connection at an iCubs game for all regional Chamber members. The WDM Leadership Academy will have a special tent alongside this tailgate so you can not only mingle with leaders from across the metro\, but also reconnect with your fellow WDMLA graduates in a designated space.<br />\n<br />\n<strong>Step 1:&nbsp\;</strong><br />\nRSVP on this page so we can stock up on enough complimentary drinks\, hotdogs\, and chips.&nbsp\;<br />\n<br />\n<strong>Step 2 (IMPORTANT!):&nbsp\;</strong><br />\nIf you plan to stay for the game itself\, be sure to get your $3 discounted tickets <a href="https://members.dsmpartnership.com/events/details/chamber-night-with-the-iowa-cubs-2024-07-23-2024-61317?_gl=1*niy7z1*_gcl_au*Njg2ODE4NTQ2LjE3MTgyOTU4MzY.*_ga*MjAzMDQyNjQxNS4xNzE4Mjk1ODM2*_ga_P6V4JTPYK7*MTcxODY3MzMzNy4yLjAuMTcxODY3MzMzNy42MC4wLjA.">here</a> through the Partnership.&nbsp\;</span></span><br />\n<br />\n<span style="color: rgb(31\, 31\, 31)\; font-size: 16px\;">We encourage you to bring your family--simply add them to your RSVP!&nbsp\;Let&#39\;s root for the iCubs together and create some unforgettable memories cheering on the home team.</span><br />\n&nbsp\;\n<hr /><span style="font-size:16px\;"><span data-sheets-formula-bar-text-style="font-size:13px\;color:#000000\;font-weight:bold\;text-decoration:none\;font-family:''Arial''\;font-style:normal\;text-decoration-skip-ink:none\;" font-size:="" google="" style="color: rgb(31\, 31\, 31)\; font-family: " white-space-collapse:=""><strong>Please note to prepare for the game:</strong> </span></span>\n\n<ul>\n	<li><span style="font-size:16px\;"><em><span data-sheets-formula-bar-text-style="font-size:13px\;color:#000000\;font-weight:normal\;text-decoration:none\;font-family:'Arial'\;font-style:normal\;text-decoration-skip-ink:none\;" font-size:="" google="" style="color: rgb(31\, 31\, 31)\; font-family: " white-space-collapse:="">Tailgate Location: We will be in the Southwest corner of the parking lot\, north of Principal Park&nbsp\;</span></em></span></li>\n	<li><span style="font-size:16px\;"><em><span data-sheets-formula-bar-text-style="font-size:13px\;color:#000000\;font-weight:normal\;text-decoration:none\;font-family:'Arial'\;font-style:normal\;text-decoration-skip-ink:none\;" font-size:="" google="" style="color: rgb(31\, 31\, 31)\; font-family: " white-space-collapse:="">Bag Policy: The only bags allowed inside Principal Park are CLEAR BAGS smaller than 12in long x 12in tall x 6in wide. Small clutches no larger than 4.5in &times\; 6.5in will also be permitted. </span></em></span></li>\n	<li><span style="font-size:16px\;"><em><span data-sheets-formula-bar-text-style="font-size:13px\;color:#000000\;font-weight:normal\;text-decoration:none\;font-family:'Arial'\;font-style:normal\;text-decoration-skip-ink:none\;" font-size:="" google="" style="color: rgb(31\, 31\, 31)\; font-family: " white-space-collapse:="">Cashless Facility</span></em></span></li>\n</ul>\n
LOCATION:
UID:e.2655.3814
SEQUENCE:3
DTSTAMP:20260423T140612Z
URL:https://members.wdmchamber.org/events/details/wdm-leadership-academy-alumni-i-cubs-tailgate-social-3814
END:VEVENT

END:VCALENDAR
