BEGIN:VCALENDAR
VERSION:2.0
PRODID:-//ChamberMaster//Event Calendar 2.0//EN
METHOD:PUBLISH
X-PUBLISHED-TTL:P3D
REFRESH-INTERVAL:P3D
CALSCALE:GREGORIAN
BEGIN:VEVENT
DTSTART:20220503T210000Z
DTEND:20220503T220000Z
X-MICROSOFT-CDO-ALLDAYEVENT:FALSE
SUMMARY:WDM Leadership Academy Info Session
DESCRIPTION:Listen to the video at the bottom (2 min) to get a taste of why leaders call this program "life changing." Then\, join us to hear from more alumni and current class members on their experiences. \n\n\n\nUnlike other metro leadership programs\, where focus is predominantly on community information\, the WDM Leadership Academy (WDMLA) places substantial emphasis on honing skills so participants will better lead themselves\, others and throughout the community.\n\n\n\nThe course begins in September with graduation in May. In between\, you'll experience nine highly impactful days full of experiential learning. Upon graduation\, participants share a keen appreciation for the insights they've gained and an excitement for the continued application of skills learned. With diploma in hand\, they better influence others\, impact decisions more effectively\, and lead with confidence.
X-ALT-DESC;FMTTYPE=text/html:<p><span style="font-size: 16px\;"><span style="font-family: arial\;">Listen to the video at the bottom&nbsp\;<em>(2 min)</em> to get a taste of why leaders call this program &quot\;life changing.&quot\; Then\, join us&nbsp\;to hear from more alumni and current class members on their experiences.&nbsp\;</span></span><br />\n<br />\n<span style="font-size:16px\;"><span style="font-family:arial\;"><span helvetica="">Unlike other metro leadership programs\, where focus is predominantly on community information\, the WDM Leadership Academy (WDMLA) places substantial emphasis on honing skills so participants will better lead themselves\, others and throughout the community.<br />\n<br />\nThe course begins in September with graduation in May. In between\, you&#39\;ll experience&nbsp\;nine highly impactful days full of experiential learning. Upon graduation\, participants share a keen appreciation for the insights they&rsquo\;ve gained and an excitement for the continued&nbsp\;application of skills learned. With diploma in hand\, they better influence others\, impact decisions more effectively\, and lead with confidence.</span></span></span></p>\n
LOCATION:West Des Moines Chamber 650 S. Prairie View Drive\, Suite 110 West Des Moines\, IA
UID:e.2655.1526
SEQUENCE:3
DTSTAMP:20260420T085448Z
URL:https://members.wdmchamber.org/events/details/wdm-leadership-academy-info-session-1526
END:VEVENT

END:VCALENDAR
