BEGIN:VCALENDAR
VERSION:2.0
PRODID:-//ChamberMaster//Event Calendar 2.0//EN
METHOD:PUBLISH
X-PUBLISHED-TTL:P3D
REFRESH-INTERVAL:P3D
CALSCALE:GREGORIAN
BEGIN:VEVENT
DTSTART:20240720T160000Z
DTEND:20240720T180000Z
X-MICROSOFT-CDO-ALLDAYEVENT:FALSE
SUMMARY:Wet N Wild Photoshoot
DESCRIPTION:Get a cute summer-themed photo of your pet (or you and your pet) at the ARL   complete with a unique background your wild buddy would approve of!\n\n \n\nStick around for FUN in the SUN in Bailey's Bark Park!\n\nAfter their photo session your four-legged friend will have the chance to roam off leash in Bailey's dog park\, romp around the miniature pools and play with other pups and water toys galore. Add in some sunshine\, raffle prizes\, a cash bar and the chance for your pup to paint their own petcasso painting - your Saturday just got a lot more wild!
X-ALT-DESC;FMTTYPE=text/html:<h3>Get a cute summer-themed photo of your pet (or you and your pet) at the ARL &mdash\; complete with a unique background your wild buddy&nbsp\;would approve of!</h3>\n\n<h3>&nbsp\;</h3>\n\n<h3><span style="color:rgb(101\, 45\, 136)">Stick around for FUN in the SUN in Bailey&#39\;s Bark Park!</span></h3>\n\n<p style="text-align:center">After their photo session your four-legged friend will have the chance to roam off leash in Bailey&#39\;s dog park\, romp around the miniature pools and play with other pups and water toys galore. Add in some sunshine\, raffle prizes\, a cash bar&nbsp\;and the chance for your pup to paint their own petcasso painting - your Saturday just got a lot more wild!&nbsp\;</p>\n
LOCATION:ARL Main\, Bailey's Bark Park 5452 NE 22nd Street Des Moines\, IA 50313
UID:e.2655.3806
SEQUENCE:3
DTSTAMP:20260423T140751Z
URL:https://members.wdmchamber.org/events/details/wet-n-wild-photoshoot-3806
END:VEVENT

END:VCALENDAR
