BEGIN:VCALENDAR
VERSION:2.0
PRODID:-//ChamberMaster//Event Calendar 2.0//EN
METHOD:PUBLISH
X-PUBLISHED-TTL:P3D
REFRESH-INTERVAL:P3D
CALSCALE:GREGORIAN
BEGIN:VEVENT
DTSTART:20241213T230000Z
DTEND:20241214T010000Z
X-MICROSOFT-CDO-ALLDAYEVENT:FALSE
SUMMARY:Winter Sampler Opening Reception
DESCRIPTION:Join us for the opening reception of Winter Sampler!\n\nFriday\, December 13th\, 2024\n\n5:00 - 7:00pm  \n\n\n\nWinter Sampler is a group show featuring a sampling of local and midwestern represented artists including Michael Brangoccio\, Christopher Chiavetta\, Mary Merkel-Hess\, Anna Lambrini Moisiadis\, Jonathan & Allison Metzger\, Tim Schiffer\, Jim Sincock\, Debra Smith\, and Molly Wood.\n\n\n\nWe will also have a Small Works Corner with the perfect gift-sized piece for the art lover in your life!\n\n\n\nPreview the show online.\n\n\n\nOlson-Larsen Galleries\n\n542 5th Street\, West Des Moines\n\n515.277.6734\n\nwww.olsonlarsen.com
X-ALT-DESC;FMTTYPE=text/html:<span style="color:rgb(0\, 0\, 0)\; font-family:raleway\; font-size:17px"><span style="font-size:24px">Join us for the opening reception of Winter Sampler!</span></span><br />\n<span style="color:rgb(0\, 0\, 0)\; font-family:raleway\; font-size:17px"><strong>Friday\, December 13th\, 2024</strong></span><br />\n<span style="color:rgb(0\, 0\, 0)\; font-family:raleway\; font-size:17px"><span style="font-size:24px">5:00 - 7:00pm</span></span><span style="color:rgb(0\, 0\, 0)\; font-family:raleway\; font-size:17px">&nbsp\;</span><span style="color:rgb(0\, 0\, 0)\; font-family:raleway\; font-size:17px">&nbsp\;</span><br />\n<br />\n<span style="color:rgb(0\, 0\, 0)\; font-family:raleway\; font-size:17px"><span style="font-size:20px">Winter Sampler is a group show featuring a sampling of local and midwestern represented artists including Michael Brangoccio\, Christopher Chiavetta\, Mary Merkel-Hess\, Anna Lambrini Moisiadis\, Jonathan &amp\; Allison Metzger\, Tim Schiffer\, Jim Sincock\, Debra Smith\, and Molly Wood.<br />\n<br />\nWe will also have a Small Works Corner with the perfect gift-sized piece for the art lover in your life!<br />\n<br />\n<a href="https://olsonlarsen.com/show/olson-larsen-galleries-winter-sampler">Preview the show online.</a><br />\n<br />\nOlson-Larsen Galleries<br />\n542 5th Street\, West Des Moines<br />\n515.277.6734<br />\nwww.olsonlarsen.com</span></span>
LOCATION:Olson-Larsen Galleries 542 5th Street\, West Des Moines 515.277.6734 www.olsonlarsen.com
UID:e.2655.4388
SEQUENCE:3
DTSTAMP:20260421T082653Z
URL:https://members.wdmchamber.org/events/details/winter-sampler-opening-reception-4388
END:VEVENT

END:VCALENDAR
