BEGIN:VCALENDAR
VERSION:2.0
PRODID:-//ChamberMaster//Event Calendar 2.0//EN
METHOD:PUBLISH
X-PUBLISHED-TTL:P3D
REFRESH-INTERVAL:P3D
CALSCALE:GREGORIAN
BEGIN:VEVENT
DTSTART:20240727T160000Z
DTEND:20240727T190000Z
X-MICROSOFT-CDO-ALLDAYEVENT:FALSE
SUMMARY:Xtream Christmas in July
DESCRIPTION:Please join us for Xtream Christmas In July on July 27th at Evelyn K. Davis Park from 11:00 AM to 2:00 PM.\n\n \n\nThis free outdoor event offers families food and fun\, with something for everyone\, while raising awareness of services available to them thru The Salvation Army including rent and utility assistance\, food pantries\, mobile breakfast feeding program\, youth programs and so much more. All funds raised through sponsorships and online donations\, after event costs\, go to fund these programs. \n\n \n\nWe also know we cannot do it alone. It takes a village. This event is about connecting and educating the community on ALL resources available to help them or improve their lives. That is why we invite other nonprofits and vendors to join us in this event.https://bit.ly/xijdsm2024\n\n \n\nJoining Sponsors\, Non-Profits and vendors joining us this year include:\n\nHeadline Sponsor\n\nXtream Powered by Mediacom\n\nBooth Sponsor\n \n\nBank Iowa                             \n\nCommunity State\n\nFareway\n\nFOX 17\n\nIowa Wild\n\nPepsi\n\nPrairie Meadows\n\nUnited Healthcare\n\nWells Fargo\n \n\nSupporting Sponsors\n \n\nAE Dairy\n\nCasey's General Stores\n\nEisenlauer Team\n\nIowa Dumpsters\n\nMidAmerican Energy\n\nQuik Trip\n\nScheels\n\nDubuque Bank & Trust\n \n\nVendors/Nonprofit Partners\n \n\n104.1 EZ FM\n\nARL of Iowa\n\nBass Pro Shops\n\nBetter Care\n\nCreative Visions\n\nDes Moines Public Library\n\nEvery Step\n\nEvelyn K. Davis Ctr\n\nIowa League of Heroes\n\nJP Party Rentals\n\nLaborers' Local 177    \n\nNerd Art Face Painting\n\nOak Street Health\n\nPop Up Games\n\nPrevent Child Abuse IA\n\nSt. Vincent de Paul\n\nThe Outside Scoop\n\nWellpoint\n\n\n \n\nAttractions include:\n\n\n	Santa with free toy sponsored by Xtream powered by Mediacom and Wells Fargo\n	Chick-Fil-A gift cards handed out while supplies last\n	Free lunch from Fareway\, with drinks from AE Dairy and Pepsi\n	Free ice cream from The Outside Scoop sponsored by Community State Bank\n	Inflatables\n	\n		Mechanical reindeer ride sponsored by Prairie Meadows\n		Giant gingerbread house and slide sponsored by Bank Iowa\n		Red Kettle\n		Toddler castle\n	\n	\n	Iowa Wild Street Hockey\n	Water bottles and watering station from Des Moines Water Works\n	ARL of Iowa with adoptable pets and giving free pet food and accessories\n	Dunk Tank sponsored by Laborers' Local 177\n	Des Moines Fire Truck for kids to see up close\n	Face painting\n	Mini golf sponsored by United Healthcare\n	Christmas music provided by 104.1 EZ FM\n	Fire truck and the Des Moines Fore Department!\n	Splash pad\n\n and more!\n\n \n\nhttps://bit.ly/xijdsm2024\n\n\n\nIn 2021\, Christmas In July had around 1000 adult and children attendees.  In 2022\, that number jumped to over 3000\, and continued to grow in 2023.  This is our fourth year of bringing the community together for fun and to connect to needed resources in the community they may not be aware of. \n\n \n\nNonprofits are $100 and vendors are $250 or $1000 if you want your logo included poster\, signage at event\, and website. Please visit our website and download the vendor form at https://donate.salarmywestern.org/event/the-salvation-army-of-des-moines-christmas-in-july-2024/e571002 and submit by June 20th. If you are doing a sponsor level of $1000 or more\, please email your logo for use on poster and website.
X-ALT-DESC;FMTTYPE=text/html:<div><span style="font-size:12.0pt">Please join us for </span><strong><em><span style="font-size:18.0pt">Xtream Christmas In July</span></em></strong> <span style="font-size:12.0pt">on July 27<sup>th</sup> at Evelyn K. Davis Park from 11:00 AM to 2:00 PM.</span><br />\n&nbsp\;<br />\n<span style="font-size:14px">This free outdoor event offers families food and fun\, with something for everyone\, while raising awareness of services available to them thru The Salvation Army including rent and utility assistance\, food pantries\, mobile breakfast feeding program\, youth programs and so much more. All funds raised through sponsorships and online donations\, after event costs\, go to fund these programs.&nbsp\;<br />\n&nbsp\;<br />\nWe also know we cannot do it alone. It takes a village. This event is about connecting and educating the community on ALL resources available to help them or improve their lives. That is why we invite other nonprofits and vendors to join us in this event.<a href="https://bit.ly/xijdsm2024" target="_blank">https://bit.ly/xijdsm2024</a><br />\n&nbsp\;<br />\n<strong><u>Joining Sponsors\, Non-Profits and vendors joining us this year include</u></strong><strong>:</strong><br />\n<strong>Headline Sponsor</strong><br />\nXtream Powered by Mediacom<br />\n<strong>Booth Sponsor</strong></span></div>\n&nbsp\;\n\n<div><span style="font-size:14px">Bank Iowa&nbsp\;&nbsp\;&nbsp\;&nbsp\;&nbsp\;&nbsp\;&nbsp\;&nbsp\;&nbsp\;&nbsp\;&nbsp\;&nbsp\;&nbsp\;&nbsp\;&nbsp\;&nbsp\;&nbsp\;&nbsp\;&nbsp\;&nbsp\;&nbsp\;&nbsp\;&nbsp\;&nbsp\;&nbsp\;&nbsp\;&nbsp\;&nbsp\;&nbsp\;<br />\nCommunity State<br />\nFareway<br />\nFOX 17<br />\nIowa Wild<br />\nPepsi<br />\nPrairie Meadows<br />\nUnited Healthcare<br />\nWells Fargo</span></div>\n&nbsp\;\n\n<div><span style="font-size:14px"><strong>Supporting Sponsors</strong></span></div>\n&nbsp\;\n\n<div><span style="font-size:14px">AE Dairy<br />\nCasey&#39\;s General Stores<br />\nEisenlauer Team<br />\nIowa Dumpsters<br />\nMidAmerican Energy<br />\nQuik Trip<br />\nScheels<br />\nDubuque Bank &amp\; Trust</span></div>\n&nbsp\;\n\n<div><span style="font-size:14px"><strong>Vendors/Nonprofit Partners</strong></span></div>\n&nbsp\;\n\n<div><span style="font-size:14px">104.1 EZ FM<br />\nARL of Iowa<br />\nBass Pro Shops<br />\nBetter Care<br />\nCreative Visions<br />\nDes Moines Public Library<br />\nEvery Step<br />\nEvelyn K. Davis Ctr<br />\nIowa League of Heroes<br />\nJP Party Rentals<br />\nLaborers&rsquo\; Local 177&nbsp\;&nbsp\;&nbsp\;&nbsp\;<br />\nNerd Art Face Painting<br />\nOak Street Health<br />\nPop Up Games<br />\nPrevent Child Abuse IA<br />\nSt. Vincent de Paul<br />\nThe Outside Scoop<br />\nWellpoint</span></div>\n<br />\n<span style="font-size:14px">&nbsp\;<br />\n<strong>Attractions include:</strong></span>\n\n<ul style="list-style-type:circle">\n	<li><span style="font-size:14px">Santa with free toy sponsored by Xtream powered by Mediacom and Wells Fargo</span></li>\n	<li><span style="font-size:14px">Chick-Fil-A gift cards handed out while supplies last</span></li>\n	<li><span style="font-size:14px">Free lunch from Fareway\, with drinks from AE Dairy and Pepsi</span></li>\n	<li><span style="font-size:14px">Free ice cream from The Outside Scoop sponsored by Community State Bank</span></li>\n	<li><span style="font-size:14px">Inflatables</span>\n	<ul style="list-style-type:circle">\n		<li><span style="font-size:14px">Mechanical reindeer ride sponsored by Prairie Meadows</span></li>\n		<li><span style="font-size:14px">Giant gingerbread house and slide sponsored by Bank Iowa</span></li>\n		<li><span style="font-size:14px">Red Kettle</span></li>\n		<li><span style="font-size:14px">Toddler castle</span></li>\n	</ul>\n	</li>\n	<li><span style="font-size:14px">Iowa Wild Street Hockey</span></li>\n	<li><span style="font-size:14px">Water bottles and watering station from Des Moines Water Works</span></li>\n	<li><span style="font-size:14px">ARL of Iowa with adoptable pets and giving free pet food and accessories</span></li>\n	<li><span style="font-size:14px">Dunk Tank sponsored by Laborers&rsquo\; Local 177</span></li>\n	<li><span style="font-size:14px">Des Moines Fire Truck for kids to see up close</span></li>\n	<li><span style="font-size:14px">Face painting</span></li>\n	<li><span style="font-size:14px">Mini golf sponsored by United Healthcare</span></li>\n	<li><span style="font-size:14px">Christmas music provided by 104.1 EZ FM</span></li>\n	<li><span style="font-size:14px">Fire truck and the Des Moines Fore Department!</span></li>\n	<li><span style="font-size:14px">Splash pad</span></li>\n</ul>\n<span style="font-size:14px">&hellip\;and more!<br />\n&nbsp\;</span><br />\n<a href="https://bit.ly/xijdsm2024"><span style="font-size:12.0pt">https://bit.ly/xijdsm2024</span></a><br />\n<br />\n<span style="font-size:14px">In 2021\, Christmas In July had around 1000 adult and children attendees.&nbsp\; In 2022\, that number jumped to over 3000\, and continued to grow in 2023.&nbsp\; This is our fourth year of bringing the community together for fun and to connect to needed resources in the community they may not be aware of.&nbsp\;<br />\n&nbsp\;<br />\nNonprofits are $100 and vendors are $250 or $1000 if you want your logo included poster\, signage at event\, and website. Please visit our website and download the vendor form at <a href="https://donate.salarmywestern.org/event/the-salvation-army-of-des-moines-christmas-in-july-2024/e571002">https://donate.salarmywestern.org/event/the-salvation-army-of-des-moines-christmas-in-july-2024/e571002</a> and <strong><u>submit by June 20<sup>th</sup></u></strong>. If you are doing a sponsor level of $1000 or more\, please email your logo for use on poster and website.</span><br />\n<br />\n&nbsp\;
LOCATION:The event takes place in Evelyn K. Davis Park west of 14th St. between Forest Ave and Carpoenter Ave. in Des Moines.
UID:e.2655.3807
SEQUENCE:3
DTSTAMP:20260423T134900Z
URL:https://members.wdmchamber.org/events/details/xtream-christmas-in-july-3807
END:VEVENT

END:VCALENDAR
