BEGIN:VCALENDAR
VERSION:2.0
PRODID:-//ChamberMaster//Event Calendar 2.0//EN
METHOD:PUBLISH
X-PUBLISHED-TTL:P3D
REFRESH-INTERVAL:P3D
CALSCALE:GREGORIAN
BEGIN:VEVENT
DTSTART:20260626T223000Z
DTEND:20260627T003000Z
X-MICROSOFT-CDO-ALLDAYEVENT:FALSE
SUMMARY:Yappy Hour
DESCRIPTION:Join us for a special Yappy Hour at Confluence Brewery! Come\, sit\, stay\, and have a drink at this Yappy Hour being host by the ARL and Confluence Brewery! We will be revealing the 2026 Rescue Beer with the winning pet featured on the can. Proceeds support homeless pets\, so grab your drinking buddies (human and hound) and join us for this dog-friendly event! Humans will be able to purchase drinks from Confluence's bar\, including the limited-edition beer from our Rescue Beer Contest! There will also be Bark-uterie cups for sale for your pups at the ARL table. This is a FREE event\, though we ask that you RSVP via the ticket link. What to expect: Drinks for the humans Bark-uterie cups for the dogs Free swag items curtesy of Renewal by Anderson The opportunity to win a raffle basket New this year - Doggy Bag Add-on: Upgrade your experience with this $15 Doggy Bag Add-on that includes a tennis ball\, dog treats\, ARL merch\, and a Rescue Beer can!
X-ALT-DESC;FMTTYPE=text/html:Join us for a special Yappy Hour at Confluence Brewery! Come\, sit\, stay\, and have a drink at this Yappy Hour being host by the ARL and Confluence Brewery! We will be revealing the 2026 Rescue Beer with the winning pet featured on the can. Proceeds support homeless pets\, so grab your drinking buddies (human and hound) and join us for this dog-friendly event! Humans will be able to purchase drinks from Confluence&rsquo\;s bar\, including the limited-edition beer from our Rescue Beer Contest! There will also be Bark-uterie cups for sale for your pups at the ARL table. This is a FREE event\, though we ask that you RSVP via the ticket link. What to expect: Drinks for the humans Bark-uterie cups for the dogs Free swag items curtesy of Renewal by Anderson The opportunity to win a raffle basket New this year - Doggy Bag Add-on: Upgrade your experience with this $15 Doggy Bag Add-on that includes a tennis ball\, dog treats\, ARL merch\, and a Rescue Beer can!
LOCATION:Confluence Brewing Co. 1235 Thomas Beck Rd Des Moines\, IA 50315
UID:e.2655.5346
SEQUENCE:3
DTSTAMP:20260423T115331Z
URL:https://members.wdmchamber.org/events/details/yappy-hour-06-26-2026-5346
END:VEVENT

END:VCALENDAR
