BEGIN:VCALENDAR
VERSION:2.0
PRODID:-//ChamberMaster//Event Calendar 2.0//EN
METHOD:PUBLISH
X-PUBLISHED-TTL:P3D
REFRESH-INTERVAL:P3D
CALSCALE:GREGORIAN
BEGIN:VEVENT
DTSTART:20260712T150000Z
DTEND:20260712T160000Z
X-MICROSOFT-CDO-ALLDAYEVENT:FALSE
SUMMARY:Yoga in the Barn
DESCRIPTION:Stretch\, sip\, and support homeless pets! Join us for a one-of-a-kind workout experience inside the ARL Kruidenier Second Chance Ranch! Enjoy an energizing yoga class led by a professional instructor\, followed by a cool down while you mingle with the horses\, chickens\, and other rescue barn animals in our care. Sip on a complimentary golden gallop champagne cocktail while soaking in the beautiful setting all while giving back to animals in need. Session 1: 10   11 a.m. Tickets: $20 (Ages 5+) What's included: a yoga class lead by a professional one complimentary golden gallop champagne cocktail (ages 21+) the chance to meet our rescue barn pets and learn about our barn programs All proceeds benefit the pets in our care at the Animal Rescue League of Iowa  including the barn pets who you will get the chance to meet!
X-ALT-DESC;FMTTYPE=text/html:Stretch\, sip\, and support homeless pets! Join us for a one-of-a-kind workout experience inside the ARL Kruidenier Second Chance Ranch! Enjoy an energizing yoga class led by a professional instructor\, followed by a cool down while you mingle with the horses\, chickens\, and other rescue barn animals in our care. Sip on a complimentary golden gallop champagne cocktail while soaking in the beautiful setting&mdash\;all while giving back to animals in need. Session 1: 10 &ndash\; 11 a.m. Tickets: $20 (Ages 5+) What&rsquo\;s included: a yoga class lead by a professional one complimentary golden gallop champagne cocktail (ages 21+) the chance to meet our rescue barn pets and learn about our barn programs All proceeds benefit the pets in our care at the Animal Rescue League of Iowa&mdash\; including the barn pets who you will get the chance to meet!
LOCATION:ARL Kruidenier Second Chance Ranch 3296 NE 54th Ave Des Moines\, IA 50313
UID:e.2655.5349
SEQUENCE:3
DTSTAMP:20260423T133902Z
URL:https://members.wdmchamber.org/events/details/yoga-in-the-barn-07-12-2026-5349
END:VEVENT

END:VCALENDAR
