BEGIN:VCALENDAR
VERSION:2.0
PRODID:-//ChamberMaster//Event Calendar 2.0//EN
METHOD:PUBLISH
X-PUBLISHED-TTL:P3D
REFRESH-INTERVAL:P3D
CALSCALE:GREGORIAN
BEGIN:VEVENT
DTSTART:20240710T203000Z
DTEND:20240710T220000Z
X-MICROSOFT-CDO-ALLDAYEVENT:FALSE
SUMMARY:YURtern: Alumni Social
DESCRIPTION:NOTE: This is an event for interns and alumni of the YURtern program! \n\n\n\nYURtern Alumni Social at Spare Time. We are bringing back YURtern participants from six years of the program to connect with you! Where are they now? What was the most valuable thing they learned? What the heck is next?! Chat all this and more with key members of our 1\,300+ alumni network. Supporting Sponsor: Athene.\n\n\n\nAlumni\, please register on this page! We cannot wait to celebrate all you have accomplished and where you are headed. Enjoy free food and game cards during this event. \n\n\n\nFood and drinks are provided. \n\n \nTo register for this event please email meredith@wdmchamber.org. \n\nTo register for all of YURtern you can complete this survey.  \n\n\n\nNotice of Photographic & Media Recording: When you attend a West Des Moines Chamber of Commerce event\, photography\, audio\, and video recording may occur. By attending this event\, you consent to such recording media and your image and likeness being used in connection with the advertising\, marketing\, and promotion of the West Des Moines Chamber of Commerce and/or City of West Des Moines.
X-ALT-DESC;FMTTYPE=text/html:<br />\n<span style="font-size: 16px\;"><span style="color: rgb(255\, 0\, 0)\;"><span style="font-family: Montserrat\, sans-serif\;"><strong>NOTE: This is an event for interns and alumni of the YURtern program!&nbsp\;</strong></span></span></span><br />\n<br />\n<strong style="box-sizing: border-box\; color: rgb(25\, 25\, 25)\; font-family: Montserrat\, sans-serif\; font-size: 24px\;">YURtern Alumni Social&nbsp\;</strong><span style="color: rgb(25\, 25\, 25)\; font-family: Montserrat\, sans-serif\; font-size: 24px\;">at&nbsp\;</span><a href="https://www.sparetimeentertainment.com/desmoines/" role="link" style="box-sizing: border-box\; text-decoration-line: none\; color: rgb(162\, 196\, 50)\; box-shadow: none\; font-family: Montserrat\, sans-serif\; font-size: 24px\;">Spare Time</a><span style="box-sizing: border-box\; font-family: Montserrat\, sans-serif\; font-size: 24px\; color: rgb(153\, 204\, 0)\;"><span style="box-sizing: border-box\; color: rgb(0\, 0\, 0)\;">.</span></span><span style="box-sizing: border-box\; font-family: Montserrat\, sans-serif\; font-size: 24px\; color: rgb(153\, 204\, 0)\;"><span style="box-sizing: border-box\; color: rgb(0\, 0\, 0)\;">&nbsp\;We are bringing back YURtern participants from six years of the program to connect with you! Where are they now? What was the most valuable thing they learned? What the heck is next?! Chat all this and more with key members of our 1\,300+ alumni network. Supporting Sponsor:&nbsp\;<a href="https://www.athene.com/" role="link" style="box-sizing: border-box\; text-decoration-line: none\; color: rgb(162\, 196\, 50)\; box-shadow: none\;">Athene</a>.</span></span><br />\n<br />\n<span style="color:#FF0000\;"><span style="box-sizing: border-box\; font-family: Montserrat\, sans-serif\; font-size: 24px\;"><span style="box-sizing: border-box\;"><em><strong>Alumni\, please register on this page!</strong></em></span></span></span><span style="box-sizing: border-box\; font-family: Montserrat\, sans-serif\; font-size: 24px\; color: rgb(153\, 204\, 0)\;"><span style="box-sizing: border-box\; color: rgb(0\, 0\, 0)\;"> We cannot wait to celebrate all you have accomplished and where you are headed. Enjoy free food and game cards during this event.&nbsp\;</span></span><br />\n<br />\n<span style="font-family: Montserrat\, sans-serif\; font-size: 24px\;"><span style="font-size:16px\;">Food and drinks are provided.&nbsp\;</span></span><br />\n&nbsp\;\n<hr /><span style="font-size:18px\;">To register for this event please email meredith@wdmchamber.org.&nbsp\;<br />\nTo register for all of YURtern you can complete <a href="https://www.surveymonkey.com/r/JSYQCYZ">this survey</a>.&nbsp\;&nbsp\;</span><br />\n<br />\n<span style="box-sizing: border-box\; font-weight: bolder\; color: rgb(68\, 68\, 68)\; font-family: Montserrat\, sans-serif\; font-size: 10px\;">Notice of Photographic &amp\; Media Recording</span><span style="box-sizing: border-box\; color: rgb(68\, 68\, 68)\; font-family: Montserrat\, sans-serif\; font-size: 10px\;">: When you attend a West Des Moines Chamber of Commerce event\, photography\, audio\, and video recording may occur. By attending this event\, you consent to such recording media and your image and likeness being used in connection with the advertising\, marketing\, and promotion of the West Des Moines Chamber of Commerce and/or City of West Des Moines.</span>
LOCATION:Spare Time 340 Jordan Creek Pkwy West Des Moines\, IA 50266
UID:e.2655.3811
SEQUENCE:3
DTSTAMP:20260423T134726Z
URL:https://members.wdmchamber.org/events/details/yurtern-alumni-social-3811
END:VEVENT

END:VCALENDAR
