BEGIN:VCALENDAR
VERSION:2.0
PRODID:-//ChamberMaster//Event Calendar 2.0//EN
METHOD:PUBLISH
X-PUBLISHED-TTL:P3D
REFRESH-INTERVAL:P3D
CALSCALE:GREGORIAN
BEGIN:VEVENT
DTSTART:20240724T193000Z
DTEND:20240724T220000Z
X-MICROSOFT-CDO-ALLDAYEVENT:FALSE
SUMMARY:YURtern: Certifiably Prepared - INVITE ONLY
DESCRIPTION:NOTE: This is an INVITATION ONLY event for interns! \n\n\n\nCertificate Presentation +  Celebration   Students who attend 4+ of the 6 previous events will receive additional information about this exclusive post-program event. Host Sponsor:  Merchants Bonding Company. Supporting Sponsor: Wellabe. Participants invited to this exclusive final event will receive their official Certificate of Completion\, have the opportunity to take a free headshot photo provided by Brent Isenberger Photography\, and hear from Kristin Economos from Life Skills Launch on the transition from college to professional life!\n\n\n\nFood and drinks are provided. \n\n \nTo register for this event please email meredith@wdmchamber.org. \n\nTo register for all of YURtern you can complete this survey.  \n\n\n\nNotice of Photographic & Media Recording: When you attend a West Des Moines Chamber of Commerce event\, photography\, audio\, and video recording may occur. By attending this event\, you consent to such recording media and your image and likeness being used in connection with the advertising\, marketing\, and promotion of the West Des Moines Chamber of Commerce and/or City of West Des Moines.
X-ALT-DESC;FMTTYPE=text/html:<br />\n<span style="font-size: 16px\;"><span style="color: rgb(255\, 0\, 0)\;"><span style="font-family: Montserrat\, sans-serif\;"><strong>NOTE: This is an INVITATION ONLY event for interns!&nbsp\;</strong></span></span></span><br />\n<br />\n<strong style="box-sizing: border-box\; color: rgb(25\, 25\, 25)\; font-family: Montserrat\, sans-serif\; font-size: 24px\;">Certificate Presentation +&nbsp\; Celebration</strong><b style="box-sizing: border-box\; color: rgb(25\, 25\, 25)\; font-family: Montserrat\, sans-serif\; font-size: 24px\;">&nbsp\;&ndash\;&nbsp\;</b><span style="color: rgb(25\, 25\, 25)\; font-family: Montserrat\, sans-serif\; font-size: 24px\;">Students who attend&nbsp\;</span><em style="box-sizing: border-box\; color: rgb(25\, 25\, 25)\; font-family: Montserrat\, sans-serif\; font-size: 24px\;">4+ of the 6 previous events</em><span style="color: rgb(25\, 25\, 25)\; font-family: Montserrat\, sans-serif\; font-size: 24px\;">&nbsp\;will receive additional information about this exclusive post-program event. Host Sponsor:&nbsp\;&nbsp\;</span><a href="https://www.merchantsbonding.com/" role="link" style="box-sizing: border-box\; text-decoration-line: none\; color: rgb(162\, 196\, 50)\; box-shadow: none\; font-family: Montserrat\, sans-serif\; font-size: 24px\;">Merchants Bonding Company</a><span style="color: rgb(25\, 25\, 25)\; font-family: Montserrat\, sans-serif\; font-size: 24px\;">. Supporting Sponsor:&nbsp\;</span><a href="https://www.wellabe.com/home" role="link" style="box-sizing: border-box\; text-decoration-line: none\; color: rgb(162\, 196\, 50)\; box-shadow: none\; font-family: Montserrat\, sans-serif\; font-size: 24px\;">Wellabe.</a>&nbsp\;<span style="color: rgb(25\, 25\, 25)\; font-family: Montserrat\, sans-serif\; font-size: 24px\;">Participants invited to this exclusive final event will r</span><span style="box-sizing: border-box\; color: var( --e-global-color-text )\; font-family: var( --e-global-typography-text-font-family )\, Sans-serif\; font-size: 24px\; font-weight: var( --e-global-typography-text-font-weight )\;">eceive their official Certificate of Completion\, have the opportunity to take a free&nbsp\;</span><span style="box-sizing: border-box\; color: var( --e-global-color-text )\; font-family: var( --e-global-typography-text-font-family )\, Sans-serif\; font-size: 24px\; font-weight: var( --e-global-typography-text-font-weight )\;">headshot photo provided by&nbsp\;<a href="https://isenbergerphoto.com/" role="link" style="box-sizing: border-box\; text-decoration-line: none\; color: rgb(162\, 196\, 50)\; box-shadow: none\;">Brent Isenberger Photography</a>\, and hear from Kristin Economos from&nbsp\;<a href="https://lifeskillslaunch.com/about" role="link" style="box-sizing: border-box\; text-decoration-line: none\; color: rgb(162\, 196\, 50)\; box-shadow: none\;">Life Skills Launch</a>&nbsp\;on the transition from college to professional life!</span><br />\n<br />\n<span style="font-family: Montserrat\, sans-serif\; font-size: 24px\;"><span style="font-size:16px\;">Food and drinks are provided.&nbsp\;</span></span><br />\n&nbsp\;\n<hr /><span style="font-size:18px\;">To register for this event please email meredith@wdmchamber.org.&nbsp\;<br />\nTo register for all of YURtern you can complete <a href="https://www.surveymonkey.com/r/JSYQCYZ">this survey</a>.&nbsp\;&nbsp\;</span><br />\n<br />\n<span style="box-sizing: border-box\; font-weight: bolder\; color: rgb(68\, 68\, 68)\; font-family: Montserrat\, sans-serif\; font-size: 10px\;">Notice of Photographic &amp\; Media Recording</span><span style="box-sizing: border-box\; color: rgb(68\, 68\, 68)\; font-family: Montserrat\, sans-serif\; font-size: 10px\;">: When you attend a West Des Moines Chamber of Commerce event\, photography\, audio\, and video recording may occur. By attending this event\, you consent to such recording media and your image and likeness being used in connection with the advertising\, marketing\, and promotion of the West Des Moines Chamber of Commerce and/or City of West Des Moines.</span>
LOCATION:
UID:e.2655.3813
SEQUENCE:3
DTSTAMP:20260423T134717Z
URL:https://members.wdmchamber.org/events/details/yurtern-certifiably-prepared-invite-only-3813
END:VEVENT

END:VCALENDAR
