BEGIN:VCALENDAR
VERSION:2.0
PRODID:-//ChamberMaster//Event Calendar 2.0//EN
METHOD:PUBLISH
X-PUBLISHED-TTL:P3D
REFRESH-INTERVAL:P3D
CALSCALE:GREGORIAN
BEGIN:VEVENT
DTSTART:20230629T170000Z
DTEND:20230629T183000Z
X-MICROSOFT-CDO-ALLDAYEVENT:FALSE
SUMMARY:YURtern: Discover West Des Moines
DESCRIPTION:The City of West Des Moines invites you to a luncheon tour of the state of the art RecPlex! You will meet the mayor as well as representatives from different city departments to learn more about what West Des Moines has to offer.\n\nWho will you hear from?\n\nModerator: Jessie Kester\, Senior Search Consultant at Palmer Group \n\nMayor: Russ Trimble\n\n\n\n\n\nFood and drinks are provided. \n\n \nIf you already signed up for the whole YURtern program here\, you will RSVP via the calendar invite rather than the site. If you aren't signed up for the YURtern program\, simply register for this event on this page. Once you click "register\," select the "not a member" option on the right. \n\nNotice of Photographic & Media Recording: When you attend a West Des Moines Chamber of Commerce event\, photography\, audio\, and video recording may occur. By attending this event\, you consent to such recording media and your image and likeness being used in connection with the advertising\, marketing\, and promotion of the West Des Moines Chamber of Commerce and/or City of West Des Moines.
X-ALT-DESC;FMTTYPE=text/html:<br />\n<span style="color: rgb(25\, 25\, 25)\; font-family: Montserrat\, sans-serif\; font-size: 24px\;">The City of West Des Moines invites you to a luncheon tour of the state of the art RecPlex! You will meet the mayor as well as representatives from different city departments to learn more about what West Des Moines has to offer.</span><br />\n<span style="font-family: Montserrat\, sans-serif\; font-size: 24px\;"><span style="font-size:16px\;"><u>Who will you hear from?</u><br />\n<strong>Moderator: Jessie Kester\,</strong> Senior Search Consultant at Palmer Group&nbsp\;<br />\n<strong>Mayor: Russ Trimble</strong><br />\n<br />\n<br />\nFood and drinks are provided.&nbsp\;</span></span><br />\n&nbsp\;\n<hr /><em style="font-family: Montserrat\, sans-serif\; font-size: 18px\;">If you already signed up for the whole YURtern program&nbsp\;<a href="https://wdmchamber.org/programs/yurtern">here</a>\, you will RSVP via the calendar invite rather than the site. If you aren&#39\;t signed up for the YURtern program\, simply register for this event on this page.&nbsp\;Once you click &quot\;register\,&quot\; select the &quot\;not a member&quot\; option on the right.&nbsp\;</em>\n\n<hr /><span style="box-sizing: border-box\; font-weight: bolder\; color: rgb(68\, 68\, 68)\; font-family: Montserrat\, sans-serif\; font-size: 10px\;">Notice of Photographic &amp\; Media Recording</span><span style="box-sizing: border-box\; color: rgb(68\, 68\, 68)\; font-family: Montserrat\, sans-serif\; font-size: 10px\;">: When you attend a West Des Moines Chamber of Commerce event\, photography\, audio\, and video recording may occur. By attending this event\, you consent to such recording media and your image and likeness being used in connection with the advertising\, marketing\, and promotion of the West Des Moines Chamber of Commerce and/or City of West Des Moines.</span>
LOCATION:MidAmerican Energy RecPlex 6500 Grand Ave West Des Moines\, IA 50266
UID:e.2655.1863
SEQUENCE:3
DTSTAMP:20260424T113245Z
URL:https://members.wdmchamber.org/events/details/yurtern-discover-west-des-moines-1863
END:VEVENT

END:VCALENDAR
