BEGIN:VCALENDAR
VERSION:2.0
PRODID:-//ChamberMaster//Event Calendar 2.0//EN
METHOD:PUBLISH
X-PUBLISHED-TTL:P3D
REFRESH-INTERVAL:P3D
CALSCALE:GREGORIAN
BEGIN:VEVENT
DTSTART:20240717T203000Z
DTEND:20240717T220000Z
X-MICROSOFT-CDO-ALLDAYEVENT:FALSE
SUMMARY:YURtern: How to Succeed\, Roundtable with Young Professionals
DESCRIPTION:NOTE: This is an event for interns! \n\n\n\nHow to Succeed\, Roundtable with Young Professionals at Westfield Campus   R&R Realty. POV: You made the connections\, you landed the job after acing your interview\, what comes next? Learn from young professionals how they found success in the first years of their professional lives and launched their careers forward. Supporting Sponsor: Farm Bureau Financial Services.\n\n\n\nFood and drinks are provided. \n\n \nTo register for this event please email meredith@wdmchamber.org. \n\nTo register for all of YURtern you can complete this survey.  \n\n\n\nNotice of Photographic & Media Recording: When you attend a West Des Moines Chamber of Commerce event\, photography\, audio\, and video recording may occur. By attending this event\, you consent to such recording media and your image and likeness being used in connection with the advertising\, marketing\, and promotion of the West Des Moines Chamber of Commerce and/or City of West Des Moines.
X-ALT-DESC;FMTTYPE=text/html:<br />\n<span style="font-size: 16px\;"><span style="color: rgb(255\, 0\, 0)\;"><span style="font-family: Montserrat\, sans-serif\;"><strong>NOTE: This is an event for interns!&nbsp\;</strong></span></span></span><br />\n<br />\n<strong style="box-sizing: border-box\; color: rgb(25\, 25\, 25)\; font-family: Montserrat\, sans-serif\; font-size: 24px\;">How to Succeed\, Roundtable with Young Professionals</strong><span style="color: rgb(25\, 25\, 25)\; font-family: Montserrat\, sans-serif\; font-size: 24px\;">&nbsp\;at&nbsp\;</span><a href="https://www.rrrealty.com/projects" role="link" style="box-sizing: border-box\; text-decoration-line: none\; color: rgb(162\, 196\, 50)\; box-shadow: none\; font-family: Montserrat\, sans-serif\; font-size: 24px\;">Westfield Campus &ndash\; R&amp\;R Realty.&nbsp\;</a><span style="color: rgb(25\, 25\, 25)\; font-family: Montserrat\, sans-serif\; font-size: 24px\;">POV: You made the connections\, you landed the job after acing your interview\, what comes next? Learn from young professionals how they found success in the first years of their professional lives and launched their careers forward. Supporting Sponsor:&nbsp\;</span><span style="box-sizing: border-box\; font-family: Montserrat\, sans-serif\; font-size: 24px\; color: rgb(0\, 0\, 0)\;"><a href="https://www.fbfs.com/" role="link" style="box-sizing: border-box\; text-decoration-line: none\; color: rgb(162\, 196\, 50)\; box-shadow: none\;">Farm Bureau Financial Services.</a></span><br />\n<br />\n<span style="font-family: Montserrat\, sans-serif\; font-size: 24px\;"><span style="font-size:16px\;">Food and drinks are provided.&nbsp\;</span></span><br />\n&nbsp\;\n<hr /><span style="font-size:18px\;">To register for this event please email meredith@wdmchamber.org.&nbsp\;<br />\nTo register for all of YURtern you can complete <a href="https://www.surveymonkey.com/r/JSYQCYZ">this survey</a>.&nbsp\;&nbsp\;</span><br />\n<br />\n<span style="box-sizing: border-box\; font-weight: bolder\; color: rgb(68\, 68\, 68)\; font-family: Montserrat\, sans-serif\; font-size: 10px\;">Notice of Photographic &amp\; Media Recording</span><span style="box-sizing: border-box\; color: rgb(68\, 68\, 68)\; font-family: Montserrat\, sans-serif\; font-size: 10px\;">: When you attend a West Des Moines Chamber of Commerce event\, photography\, audio\, and video recording may occur. By attending this event\, you consent to such recording media and your image and likeness being used in connection with the advertising\, marketing\, and promotion of the West Des Moines Chamber of Commerce and/or City of West Des Moines.</span>
LOCATION:Westfield Campus - R&R Realty 1080 Jordan Creek Pkwy\, Suite 200 West Des Moines\, IA 50266
UID:e.2655.3812
SEQUENCE:3
DTSTAMP:20260423T135100Z
URL:https://members.wdmchamber.org/events/details/yurtern-how-to-succeed-roundtable-with-young-professionals-3812
END:VEVENT

END:VCALENDAR
