BEGIN:VCALENDAR
VERSION:2.0
PRODID:-//ChamberMaster//Event Calendar 2.0//EN
METHOD:PUBLISH
X-PUBLISHED-TTL:P3D
REFRESH-INTERVAL:P3D
CALSCALE:GREGORIAN
BEGIN:VEVENT
DTSTART:20220616T163000Z
DTEND:20220616T180000Z
X-MICROSOFT-CDO-ALLDAYEVENT:FALSE
SUMMARY:YURtern Lunch 'n Learn: Nail the Interview
DESCRIPTION:The workforce has changed significantly the last few years. The competition to land an internship or job is tough. Arm yourself with advice directly from a panel of hiring professionals on how to nail the interview--beyond the tips you can find in a Google search.\n\n\n\nWho will you hear from?\n\nModerator: Jessie Kester\, Senior Search Consultant at Palmer Group \n\nPanelist: Dave Brown\, Sr. Talent Acquisition Business Partner at Baker Group\n\nPanelist: Reggie McDade\, Principal Consultant\, Human Capital Strategies & Solutions \n\nPanelist: Megan Kohler\, Talent Acquisition Manager at American Equity\n\nPanelist: Sarah Hagen\, Talent Acquisition Partner at IMT Insurance\n\n \nIf you already signed up for the whole YURtern program here\, you will RSVP via the calendar invite rather than the site. If you aren't signed up for the YURtern program\, simply register for this event on this page. Once you click "register\," select the "not a member" option on the right. \n\nNotice of Photographic & Media Recording: When you attend a West Des Moines Chamber of Commerce event\, photography\, audio\, and video recording may occur. By attending this event\, you consent to such recording media and your image and likeness being used in connection with the advertising\, marketing\, and promotion of the West Des Moines Chamber of Commerce and/or City of West Des Moines.
X-ALT-DESC;FMTTYPE=text/html:<br />\n<span style="font-family: Montserrat\, sans-serif\; font-size: 24px\;">The workforce has changed significantly the last few years. The competition to land an internship or job is tough. Arm yourself with advice directly from a panel of hiring professionals on how to nail the interview--beyond the tips you can find in a Google search.<br />\n<br />\n<span style="font-size:16px\;"><u>Who will you hear from?</u><br />\n<strong>Moderator: Jessie Kester\,</strong> Senior Search Consultant at Palmer Group&nbsp\;<br />\n<strong>Panelist: Dave Brown\,</strong>&nbsp\;Sr. Talent Acquisition Business Partner at Baker Group<br />\n<strong>Panelist:&nbsp\;</strong></span></span><span style="font-size:16px\;"><span style="font-family: Montserrat\, sans-serif\;"><strong>Reggie McDade\,</strong> Principal Consultant\, Human Capital Strategies &amp\; Solutions&nbsp\;</span><br />\n<strong><span style="font-family: Montserrat\, sans-serif\;">Panelist:&nbsp\;</span></strong><span style="font-family: Montserrat\, sans-serif\;"><strong>Megan Kohler\,</strong>&nbsp\;Talent Acquisition Manager at American Equity</span></span><br />\n<strong style="font-size: 16px\;"><span style="font-family: Montserrat\, sans-serif\;">Panelist:&nbsp\;</span></strong><span style="font-size: 16px\; font-family: Montserrat\, sans-serif\;"><strong>Sarah Hagen\,</strong>&nbsp\;Talent Acquisition Partner at IMT Insurance</span><br />\n&nbsp\;\n<hr /><em style="font-family: Montserrat\, sans-serif\; font-size: 18px\;">If you already signed up for the whole YURtern program&nbsp\;<a href="https://wdmchamber.org/programs/yurtern">here</a>\, you will RSVP via the calendar invite rather than the site. If you aren&#39\;t signed up for the YURtern program\, simply register for this event on this page.&nbsp\;Once you click &quot\;register\,&quot\; select the &quot\;not a member&quot\; option on the right.&nbsp\;</em>\n\n<hr /><span style="box-sizing: border-box\; font-weight: bolder\; color: rgb(68\, 68\, 68)\; font-family: Montserrat\, sans-serif\; font-size: 10px\;">Notice of Photographic &amp\; Media Recording</span><span style="box-sizing: border-box\; color: rgb(68\, 68\, 68)\; font-family: Montserrat\, sans-serif\; font-size: 10px\;">: When you attend a West Des Moines Chamber of Commerce event\, photography\, audio\, and video recording may occur. By attending this event\, you consent to such recording media and your image and likeness being used in connection with the advertising\, marketing\, and promotion of the West Des Moines Chamber of Commerce and/or City of West Des Moines.</span>
LOCATION:IMT Insurance 7825 Mills Civic Parkway West Des Moines\, IA 50266
UID:e.2655.1611
SEQUENCE:3
DTSTAMP:20260425T111322Z
URL:https://members.wdmchamber.org/events/details/yurtern-lunch-n-learn-nail-the-interview-1611
END:VEVENT

END:VCALENDAR
