BEGIN:VCALENDAR
VERSION:2.0
PRODID:-//ChamberMaster//Event Calendar 2.0//EN
METHOD:PUBLISH
X-PUBLISHED-TTL:P3D
REFRESH-INTERVAL:P3D
CALSCALE:GREGORIAN
BEGIN:VEVENT
DTSTART:20230608T163000Z
DTEND:20230608T180000Z
X-MICROSOFT-CDO-ALLDAYEVENT:FALSE
SUMMARY:YURtern: Mastering the Art of Networking
DESCRIPTION:NOTE: This is an event for interns! \n\n\n\nThe art of networking can be difficult to learn\, but can get you far. Join your peers as we hear from Danny Beyer\, author of The Ties That Bind: Networking with Style\, in a luncheon devoted to learning   and practicing   lifelong networking skills.\n\n\n\nWho will you hear from?\n\nModerator: Jessie Kester\, Senior Search Consultant at Palmer Group \n\nKeynote: Danny Beyer\, Financial planner\, mayor\, speaker\, and West Des Moines Chamber Champion\n\n\n\nFood and drinks are provided. \n\n \nIf you already signed up for the whole YURtern program here\, you will RSVP via the calendar invite rather than the site. If you aren't signed up for the YURtern program\, simply register for this event on this page. Once you click "register\," select the "not a member" option on the right. \n\nNotice of Photographic & Media Recording: When you attend a West Des Moines Chamber of Commerce event\, photography\, audio\, and video recording may occur. By attending this event\, you consent to such recording media and your image and likeness being used in connection with the advertising\, marketing\, and promotion of the West Des Moines Chamber of Commerce and/or City of West Des Moines.
X-ALT-DESC;FMTTYPE=text/html:<br />\n<span style="font-size:16px\;"><span style="color:#FF0000\;"><span style="font-family: Montserrat\, sans-serif\;"><strong>NOTE: This is an event for interns!&nbsp\;</strong></span></span></span><br />\n<br />\n<span style="color: rgb(25\, 25\, 25)\; font-family: Montserrat\, sans-serif\; font-size: 24px\;">The art of networking can be difficult to learn\, but can get you far. Join your peers as we hear from Danny Beyer\, author of&nbsp\;</span><em style="box-sizing: border-box\; color: rgb(25\, 25\, 25)\; font-family: Montserrat\, sans-serif\; font-size: 24px\;">The Ties That Bind: Networking with Style\,</em><span style="color: rgb(25\, 25\, 25)\; font-family: Montserrat\, sans-serif\; font-size: 24px\;">&nbsp\;in a luncheon devoted to learning &ndash\; and practicing &ndash\; lifelong networking skills.</span><br />\n<br />\n<span style="font-family: Montserrat\, sans-serif\; font-size: 24px\;"><span style="font-size:16px\;"><u>Who will you hear from?</u><br />\n<strong>Moderator: Jessie Kester\,</strong> Senior Search Consultant at Palmer Group&nbsp\;<br />\n<strong>Keynote: Danny Beyer\,</strong>&nbsp\;Financial planner\, mayor\, speaker\, and West Des Moines Chamber Champion<br />\n<br />\nFood and drinks are provided.&nbsp\;</span></span><br />\n&nbsp\;\n<hr /><em style="font-family: Montserrat\, sans-serif\; font-size: 18px\;">If you already signed up for the whole YURtern program&nbsp\;<a href="https://wdmchamber.org/programs/yurtern">here</a>\, you will RSVP via the calendar invite rather than the site. If you aren&#39\;t signed up for the YURtern program\, simply register for this event on this page.&nbsp\;Once you click &quot\;register\,&quot\; select the &quot\;not a member&quot\; option on the right.&nbsp\;</em>\n\n<hr /><span style="box-sizing: border-box\; font-weight: bolder\; color: rgb(68\, 68\, 68)\; font-family: Montserrat\, sans-serif\; font-size: 10px\;">Notice of Photographic &amp\; Media Recording</span><span style="box-sizing: border-box\; color: rgb(68\, 68\, 68)\; font-family: Montserrat\, sans-serif\; font-size: 10px\;">: When you attend a West Des Moines Chamber of Commerce event\, photography\, audio\, and video recording may occur. By attending this event\, you consent to such recording media and your image and likeness being used in connection with the advertising\, marketing\, and promotion of the West Des Moines Chamber of Commerce and/or City of West Des Moines.</span>
LOCATION:West48 1601 48th St #200 West Des Moines\, IA 50266
UID:e.2655.1860
SEQUENCE:3
DTSTAMP:20260424T113931Z
URL:https://members.wdmchamber.org/events/details/yurtern-mastering-the-art-of-networking-1860
END:VEVENT

END:VCALENDAR
